BEGIN:VCALENDAR
VERSION:2.0
PRODID:-//Women&#039;s Defense League of New Hampshire - ECPv6.15.20//NONSGML v1.0//EN
CALSCALE:GREGORIAN
METHOD:PUBLISH
X-WR-CALNAME:Women&#039;s Defense League of New Hampshire
X-ORIGINAL-URL:https://wdlnh.org
X-WR-CALDESC:Events for Women&#039;s Defense League of New Hampshire
REFRESH-INTERVAL;VALUE=DURATION:PT1H
X-Robots-Tag:noindex
X-PUBLISHED-TTL:PT1H
BEGIN:VTIMEZONE
TZID:America/New_York
BEGIN:DAYLIGHT
TZOFFSETFROM:-0500
TZOFFSETTO:-0400
TZNAME:EDT
DTSTART:20230312T070000
END:DAYLIGHT
BEGIN:STANDARD
TZOFFSETFROM:-0400
TZOFFSETTO:-0500
TZNAME:EST
DTSTART:20231105T060000
END:STANDARD
BEGIN:DAYLIGHT
TZOFFSETFROM:-0500
TZOFFSETTO:-0400
TZNAME:EDT
DTSTART:20240310T070000
END:DAYLIGHT
BEGIN:STANDARD
TZOFFSETFROM:-0400
TZOFFSETTO:-0500
TZNAME:EST
DTSTART:20241103T060000
END:STANDARD
BEGIN:DAYLIGHT
TZOFFSETFROM:-0500
TZOFFSETTO:-0400
TZNAME:EDT
DTSTART:20250309T070000
END:DAYLIGHT
BEGIN:STANDARD
TZOFFSETFROM:-0400
TZOFFSETTO:-0500
TZNAME:EST
DTSTART:20251102T060000
END:STANDARD
END:VTIMEZONE
BEGIN:VEVENT
DTSTART;TZID=America/New_York:20241026T083000
DTEND;TZID=America/New_York:20241026T123000
DTSTAMP:20260421T134017
CREATED:20240813T143710Z
LAST-MODIFIED:20240813T143713Z
UID:8752-1729931400-1729945800@wdlnh.org
SUMMARY:New Shooters Shoot - Women Only Range Staff
DESCRIPTION:All ladies who are new to our League classes must first participate in our New Shooters Intro Class before qualifying for additional firearms events. We have women NRA-certified instructors and NRA-certified Range Safety Officers to provide a safe environment. \n\n\n\n \n\n\n\nThe New Shooters Intro Classes are open to League members and guests. All non-members are required to pre-register as a Student for a Day for a fee of $25 which can be used towards a membership if you choose. Walk-ins are not accepted. \n\n\n\n \n\n\n\nAll participants in our New Shooters Intro Class will use a .22 caliber pistol and ammo that we provide. This is to help new shooters be comfortable and build on success. \n\n\n\nAll attendees must register ahead of time as the classes fill up very quickly and we have a limited number of seats we can fill. \n\n\n\nYou can register here: https://wdlnh.org/services/student-for-a-day/ \n\n\n\nAfter your payment is sent\, you will receive an email within a few days confirming your registration in the class. \n\n\n\nIf you are an existing member of the League\, email events@wdlnh.org for registration – this class is FREE to members. \n\n\n\nThe class is from 8:30 AM to 12:30 PM. Please arrive by 8:15 AM. The class will begin promptly at 8:30 AM. \n\n\n\n*Refund/Cancellation Policy* If The League has to cancel an event due to weather or other issues\, we will gladly issue a refund if you cannot make the re-scheduled class. Any cancellations by participants are not eligible for refunds nor can they be used towards another class in the future
URL:https://wdlnh.org/events/new-shooters-shoot-women-only-range-staff-2/
LOCATION:Londonderry Fish & Game Club\, 5 Lund St\, Litchfield \, NH\, 03052\, United States
CATEGORIES:Shoot
ATTACH;FMTTYPE=image/png:https://wdlnh.org/wp-content/uploads/2016/04/shooter3-17.png
END:VEVENT
END:VCALENDAR