BEGIN:VCALENDAR
VERSION:2.0
PRODID:-//Women&#039;s Defense League of New Hampshire - ECPv6.15.20//NONSGML v1.0//EN
CALSCALE:GREGORIAN
METHOD:PUBLISH
X-ORIGINAL-URL:https://wdlnh.org
X-WR-CALDESC:Events for Women&#039;s Defense League of New Hampshire
REFRESH-INTERVAL;VALUE=DURATION:PT1H
X-Robots-Tag:noindex
X-PUBLISHED-TTL:PT1H
BEGIN:VTIMEZONE
TZID:America/New_York
BEGIN:DAYLIGHT
TZOFFSETFROM:-0500
TZOFFSETTO:-0400
TZNAME:EDT
DTSTART:20230312T070000
END:DAYLIGHT
BEGIN:STANDARD
TZOFFSETFROM:-0400
TZOFFSETTO:-0500
TZNAME:EST
DTSTART:20231105T060000
END:STANDARD
BEGIN:DAYLIGHT
TZOFFSETFROM:-0500
TZOFFSETTO:-0400
TZNAME:EDT
DTSTART:20240310T070000
END:DAYLIGHT
BEGIN:STANDARD
TZOFFSETFROM:-0400
TZOFFSETTO:-0500
TZNAME:EST
DTSTART:20241103T060000
END:STANDARD
BEGIN:DAYLIGHT
TZOFFSETFROM:-0500
TZOFFSETTO:-0400
TZNAME:EDT
DTSTART:20250309T070000
END:DAYLIGHT
BEGIN:STANDARD
TZOFFSETFROM:-0400
TZOFFSETTO:-0500
TZNAME:EST
DTSTART:20251102T060000
END:STANDARD
END:VTIMEZONE
BEGIN:VEVENT
DTSTART;TZID=America/New_York:20240914T083000
DTEND;TZID=America/New_York:20240914T170000
DTSTAMP:20260421T133922
CREATED:20240813T010551Z
LAST-MODIFIED:20240813T011345Z
UID:8742-1726302600-1726333200@wdlnh.org
SUMMARY:Basic Pistol Class - Women Only Range Staff
DESCRIPTION:Our upcoming class is on Saturday\, September 14th from 8:15am (starting promptly at 8:30am) to 4:30pm. It will be held at Londonderry Fish & Game at 5 Lund Street in Litchfield. \n\n\n\nClass \n\n\n\nThe NRA Basic Pistol Course is intended for all individuals regardless of previous shooting experience or NRA affiliation. This course is a minimum of 8 hours and includes classroom instruction and range time learning to shoot semi-automatic pistols. This is an instructor-led program and is not a blended training course. \n\n\n\nStudents learn NRA’s rules for safe gun handling; pistol parts and operation; ammunition; shooting fundamentals; range rules; shooting from a standing position; pistol selection and storage; and continued opportunities for skill development. Students will also complete live-fire training on the range. A NRA Certificate will be issued upon satisfactory completion of this course. \n\n\n\nDay of Class \n\n\n\nParticipants should bring their own eye and ear protection (we have some available as well). Also bring beverages\, lunch and any snacks. Participants should dress accordingly dependent upon the weather. Please wear appropriate attire — closed-toe shoes and full-coverage shirts as hot brass can be very uncomfortable and present a safety hazard when it hits bare skin. A brimmed hat such as a baseball hat is recommended\, but not required. \n\n\n\nWearing layers is also helpful. \n\n\n\nThe Women’s Defense League will supply the firearms\, ammunition\, targets\, and student packets. \n\n\n\nRegistration \n\n\n\nAll participants must prepay to reserve their seat. The fee for non-members is $95 and for League members it is $70. Go to this link below to pay prior to class day. Space is limited to 24 participants and spots will only be held for people who pre-pay. NOTE: These classes fill up extremely fast\, spots are reserved on a first-come\, first-serve basis!! \n\n\n\nAll participants are also expected to complete a liability waiver prior to participation which will be made available at the event. \n\n\n\nYou can register for the class here:  https://wdlnh.org/services/basic%20pistol%20registration/ \n\n\n\n*Refund/Cancellation Policy* If The League has to cancel an event due to weather or other issues\, we will gladly issue a refund if you cannot make the re-scheduled class. Any cancellations by participants are not eligible for refunds nor can they be used towards another class in the future.
URL:https://wdlnh.org/events/basic-pistol-class-women-only-range-staff-7/
LOCATION:Londonderry Fish & Game Club\, 5 Lund St\, Litchfield \, NH\, 03052\, United States
CATEGORIES:Shoot
ATTACH;FMTTYPE=image/png:https://wdlnh.org/wp-content/uploads/2024/08/bpclassapril-1024x534-1.png
END:VEVENT
END:VCALENDAR