BEGIN:VCALENDAR
VERSION:2.0
PRODID:-//Women&#039;s Defense League of New Hampshire - ECPv6.15.20//NONSGML v1.0//EN
CALSCALE:GREGORIAN
METHOD:PUBLISH
X-WR-CALNAME:Women&#039;s Defense League of New Hampshire
X-ORIGINAL-URL:https://wdlnh.org
X-WR-CALDESC:Events for Women&#039;s Defense League of New Hampshire
REFRESH-INTERVAL;VALUE=DURATION:PT1H
X-Robots-Tag:noindex
X-PUBLISHED-TTL:PT1H
BEGIN:VTIMEZONE
TZID:UTC
BEGIN:STANDARD
TZOFFSETFROM:+0000
TZOFFSETTO:+0000
TZNAME:UTC
DTSTART:20150101T000000
END:STANDARD
END:VTIMEZONE
BEGIN:VEVENT
DTSTART;TZID=UTC:20160612T130000
DTEND;TZID=UTC:20160612T170000
DTSTAMP:20260420T032004
CREATED:20160408T061140Z
LAST-MODIFIED:20160509T085431Z
UID:3341-1465736400-1465750800@wdlnh.org
SUMMARY:New Shooters Shoot
DESCRIPTION:The Women’s Defense League of NH provides women opportunities to learn practical self-defense skills and defends Second Amendment rights. Providing basic firearms safety and instruction is a fundamental part of our mission\, so please join us at our monthly ladies-only event! \nOur next event is a NEW SHOOTERS INTRO CLASS at our home club\, Wilson Hill Pistol Club in Manchester on June 12th from 1:00-5:00 pm. This class is intended as a basic introduction to firearms safety and shooting. It does not replace the need for additional training. Ladies who are new to the League’s shooting classes must participate in our New Shooters Intro Class before qualifying for additional firearms events. We have women NRA-certified instructors and Range Safety Officers to provide a safe environment. We also may have a board and safety officer of the host range present. \n**Our shooting events are open to female League members and guests. All participants — members and guests — must register with us in advance; walk-ins are not accepted. All New Shooter Intro Classes are limited to 18 attendees to make sure we provide thorough instruction\, maximum range time\, and a safe experience.** \n**For our existing members who have previously participated in an Intro Class — Starting with our June event\, we will open the first hour (1pm to 2pm) to our lady members for an unstructured — but still supervised — shoot time. This will be concurrent with the classroom instruction for newbies. Space is limited to the first 12 members. You must RSVP to Lynn Nadeau at LNadeauWDLNH@gmail.com to reserve your spot; no walk-ins accepted. When not shooting on the range\, we’ll have chairs set up outside the club so people can chat without disturbing the class. ** \nTO REGISTER — ALL participants must complete these steps —\n1) Email Lynn Nadeau at LNadeauWDLNH@gmail.com. Clicking on the “join” button for this event is not sufficient to register or to guarantee your spot. If you are a League member and want to participate in the open range shoot\, please indicate that. But that’s all! Done!\n2) If you are not yet a League member\, Lynn will send you a link to our “Member for a Day” page and you will need to pay $10 in advance to register. Lynn will send you the appropriate link only *after* you email her. There is such demand for our programs that this helps us manage the registration process. Thank you! \nOnce at the class\, all guests will be required to sign a liability waiver to participate. \nPlease arrive promptly to the class\, but no later than 1:10pm. We reserve the ability to decline late-arriving participants. \nAll participants in our New Shooters Intro Class will use a .22 caliber pistol and ammo that we provide. This is to help new shooters be comfortable and build on success. Please wear appropriate attire — closed-toe shoes and full-coverage shirts. Hot brass can be very uncomfortable and present a safety hazard when it hits bare skin. Please note that Wilson Hill’s range does not have air conditioning or heat although we use space heaters when needed. Layers are smart when on the range.
URL:https://wdlnh.org/events/new-shooters-shoot-2/
LOCATION:Wilson Hill Pistol Club\, 72 Lakeshore Road\, Manchester
CATEGORIES:Shoot
ATTACH;FMTTYPE=image/png:https://wdlnh.org/wp-content/uploads/2015/07/LynnLoading.png
END:VEVENT
END:VCALENDAR