BEGIN:VCALENDAR
VERSION:2.0
PRODID:-//Women&#039;s Defense League of New Hampshire - ECPv6.15.20//NONSGML v1.0//EN
CALSCALE:GREGORIAN
METHOD:PUBLISH
X-ORIGINAL-URL:https://wdlnh.org
X-WR-CALDESC:Events for Women&#039;s Defense League of New Hampshire
REFRESH-INTERVAL;VALUE=DURATION:PT1H
X-Robots-Tag:noindex
X-PUBLISHED-TTL:PT1H
BEGIN:VTIMEZONE
TZID:America/New_York
BEGIN:DAYLIGHT
TZOFFSETFROM:-0500
TZOFFSETTO:-0400
TZNAME:EDT
DTSTART:20250309T070000
END:DAYLIGHT
BEGIN:STANDARD
TZOFFSETFROM:-0400
TZOFFSETTO:-0500
TZNAME:EST
DTSTART:20251102T060000
END:STANDARD
BEGIN:DAYLIGHT
TZOFFSETFROM:-0500
TZOFFSETTO:-0400
TZNAME:EDT
DTSTART:20260308T070000
END:DAYLIGHT
BEGIN:STANDARD
TZOFFSETFROM:-0400
TZOFFSETTO:-0500
TZNAME:EST
DTSTART:20261101T060000
END:STANDARD
BEGIN:DAYLIGHT
TZOFFSETFROM:-0500
TZOFFSETTO:-0400
TZNAME:EDT
DTSTART:20270314T070000
END:DAYLIGHT
BEGIN:STANDARD
TZOFFSETFROM:-0400
TZOFFSETTO:-0500
TZNAME:EST
DTSTART:20271107T060000
END:STANDARD
END:VTIMEZONE
BEGIN:VEVENT
DTSTART;TZID=America/New_York:20260412T090000
DTEND;TZID=America/New_York:20260412T100000
DTSTAMP:20260421T015813
CREATED:20260223T042507Z
LAST-MODIFIED:20260329T235207Z
UID:9618-1775984400-1775988000@wdlnh.org
SUMMARY:Shoot with the Girls!!! Try different Firearms!
DESCRIPTION:This is for members only who have already completed our ‘New Shooters’ safety class\, taken a Basic Pistol Class\, or are experienced shooters. Bring your own firearm (if it’s new be sure to practice loading and racking the slide before coming to the shoot because we’ll want to verify you can do it) and ammunition and get some practice before we welcome new shooters on the line! \n\n\n\n\n\n\n\nWe’ll also have firearms available if you do not have one yet and are still learning! \n\n\n\n\n\n\n\nIt’s a great chance to meet other members and have fun shooting with the girls! Instructors will be on the range to help you master your shooting skills. We’ll also have some various handguns for members to try before they go out and buy!!! We’ll have some of the more popular handguns women are using for self-defensive. It’s a mini ‘try it before you buy it!’ \n\n\n\n\n\n\n\n*You must have taken our Basic Pistol class\, New Shooters Shoot\, or be an experienced shooter before attending one of these shoots.* \n\n\n\n\n\n\n\nYou must register for this event in advance as well so that we know how many instructors to have available that day. Let our events coordinator know the date and what shoot you plan on attending.All registrations for ‘Shoot With the Girls’ are to be sent to events@wdlnh.org
URL:https://wdlnh.org/events/shoot-with-the-girls-17/
LOCATION:Londonderry Fish & Game Club\, 5 Lund St\, Litchfield \, NH\, 03052\, United States
ATTACH;FMTTYPE=image/jpeg:https://wdlnh.org/wp-content/uploads/2016/04/flyingmonkeyshooter9a-scaled.jpg
END:VEVENT
BEGIN:VEVENT
DTSTART;TZID=America/New_York:20260412T130000
DTEND;TZID=America/New_York:20260412T170000
DTSTAMP:20260421T015813
CREATED:20260223T032328Z
LAST-MODIFIED:20260406T162609Z
UID:9603-1775998800-1776013200@wdlnh.org
SUMMARY:CLASS IS FULL - Intro to Rifle - Women Only Environment
DESCRIPTION:Want to learn about rifles with women-only instructors and range staff? This Intro to Rifle is the class for you!! \n\n\n\n\n\n\n\nThe class focuses on semi-automatic rifles. Students will be taught the basics of semi-automatic rifles as well as how they function. You will be taught the parts of a rifle and how they work as well as rifle handling; safety; stance and proper loading/unloading in the classroom. \n\n\n\n\n\n\n\nOnce the classroom portion is over\, you get to actually test out what you learned on the range! Range time will include shooting .22 caliber semi-automatic rifles. The League provides the rifles and ammunition. \n\n\n\n\n\n\n\nClassroom training will be provided by League certified NRA instructors and will last about an hour and a half. Range time includes one-on-one instructor training with League instructors. This is a women-only class in a women-only environment! \n\n\n\n\n\n\n\nThis is not a class where you will receive a certificate of completion. This is an introductory class for those who are interested in learning more about rifles. It is much like our New Shooters Shoot class. \n\n\n\n\n\n\n\nThe class is $25 for members and $30 for non-members. You must register at the link below. \n\n\n\n\n\n\n\nThe registration page is here: https://wdlnh.org/intro-to-rifle-registration/ \n\n\n\n\n\n\n\nClass size is limited and is on a first-come-first-serve basis.
URL:https://wdlnh.org/events/intro-to-rifle-women-only-environment/
LOCATION:Londonderry Fish & Game Club\, 5 Lund St\, Litchfield \, NH\, 03052\, United States
ATTACH;FMTTYPE=image/jpeg:https://wdlnh.org/wp-content/uploads/2026/02/riflemalonie-1536x905-1.jpg
END:VEVENT
BEGIN:VEVENT
DTSTART;TZID=America/New_York:20260425T093000
DTEND;TZID=America/New_York:20260425T113000
DTSTAMP:20260421T015813
CREATED:20260330T191003Z
LAST-MODIFIED:20260330T191006Z
UID:9687-1777109400-1777116600@wdlnh.org
SUMMARY:SOCIAL - Frank Lloyd Wright House Tours
DESCRIPTION:The League will be going on tours of the Frank Lloyd Wright houses in Manchester\, NH. This tour is part of the Currier Museum and lasts 2 hours. General museum admission is also included in the ticket price\, so we can head to the museum after we return from the tour. After that\, we can head out to lunch somewhere local! \n\n\n\n\n\n\n\nThe tour is from 9:30 – 11:30 AM. You must arrive at the Currier Museum by 9:15. A shuttle bus takes attendees to the houses and then back again. \n\n\n\n\n\n\n\n\n\n\n\nWho is Frank Lloyd Wright? \n\n\n\n\nFrank Lloyd Wright\, American architect and central figure in modern architecture\, advanced the Prairie Style and Organic Architecture\, reshaping 20th-century design in the United States and beyond.  \n\n\n\n\n\n\n\n\nTickets are $55/person. You must order the tickets on the Currier Museum website here: https://1071.blackbaudhosting.com/1071/FLW-House–Tours-25Apr2026 \n\n\n\n\n\n\n\nBe sure to email info@wdlnh.org to let us know you’ll be attending. We’ll plan on heading out to an early dinner/late lunch after we finish up at the museum and will coordinate with everyone.
URL:https://wdlnh.org/events/social-frank-lloyd-wright-house-tours/
LOCATION:Currier Museum\, 150 Ash Street\, Manchester\, New Hampshire\, 03104\, United States
ATTACH;FMTTYPE=image/webp:https://wdlnh.org/wp-content/uploads/2026/03/OLC.webp
END:VEVENT
BEGIN:VEVENT
DTSTART;TZID=America/New_York:20260426T090000
DTEND;TZID=America/New_York:20260426T120000
DTSTAMP:20260421T015813
CREATED:20260223T035334Z
LAST-MODIFIED:20260408T222021Z
UID:9614-1777194000-1777204800@wdlnh.org
SUMMARY:Gun Cleaning Class - MEMBERS ONLY
DESCRIPTION:Gun cleaning class for MEMBERS ONLY\n\n\n\n\n\n\n\nYou shoot ’em\, you should know how to clean ’em!!! \n\n\n\n\n\n\n\nThis class will bring you through how to take apart your firearm\, clean it properly and then put it back together! You can bring a handgun OR rifle for this class! We’ll also have League rifles and handguns to help clean as well! \n\n\n\n\n\n\n\nAlthough there is no cost for this workshop\, we ask attendees to do the following:— Bring your own pistol or revolver (no long arms!) and a hard copy of the manual. Most firearms manufacturers have manuals available online if you need to print one out.— You should be comfortable with the disassembly and reassembly of your equipment.— If you don’t have a firearm\, we will clean the League’s equipment.— Bring your own supplies including towels\, swabs\, cleaning products\, and lubricants. Because ventilation may be an issue\, please do not bring sprays.— Do not bring ammo as this is *not* a shooting event and it is not allowed in the classroom. \n\n\n\n\n\n\n\nPlease register at events@wdlnh.org as class size is limited.
URL:https://wdlnh.org/events/gun-cleaning-class-members-only-4/
LOCATION:Londonderry Fish & Game Club\, 5 Lund St\, Litchfield \, NH\, 03052\, United States
ATTACH;FMTTYPE=image/jpeg:https://wdlnh.org/wp-content/uploads/2021/01/guncleaning.jpg
END:VEVENT
BEGIN:VEVENT
DTSTART;TZID=America/New_York:20260426T130000
DTEND;TZID=America/New_York:20260426T160000
DTSTAMP:20260421T015813
CREATED:20260223T040854Z
LAST-MODIFIED:20260223T040855Z
UID:9616-1777208400-1777219200@wdlnh.org
SUMMARY:Defensive Spray Training
DESCRIPTION:The Defensive Spray Training will teach women how to safely and accurately use pepper spray. Pepper spray is a non-lethal inflammatory agent that can help women thwart off an attacker long enough to escape to safety and call for help. This is a MACE brand defensive spray training class taught by a certified instructor. \n\n\n\n\n\n\n\nWhile the League teaches women how to safely and accurately shoot firearms\, there are places where firearms are not permissible. Pepper spray is legal in all 50 states and can enable women to defend themselves when they can’t or aren’t carrying a firearm. \n\n\n\n\n\n\n\nThis class will teach women how to safely and accurately use pepper spray as well as: \n\n\n\n-What chemical irritants are and the science behind them \n\n\n\n-Situational awareness \n\n\n\n-Using chemical irritants and the legal considerations \n\n\n\n-Live practice with a water trainer \n\n\n\n\n\n\n\nStudents will get an introduction to the “MACE brand of pepper spray which is the easiest\, most affordable\, proactive method of self-defense and can be carried by everyone of legal age.“ \n\n\n\n\n\n\n\nThe class is $25 for members of the League and $30 for non-members. You will receive a student guide and will be able to purchase pepper spray at the class if you choose. You will receive a certificate upon successful completion of the class. \n\n\n\n\n\n\n\nThere is no age restriction for this class. \n\n\n\n\n\n\n\nYou can register for the class here —> https://wdlnh.org/defensive-spray-class/
URL:https://wdlnh.org/events/defensive-spray-training-2/
LOCATION:Londonderry Fish & Game Club\, 5 Lund St\, Litchfield \, NH\, 03052\, United States
ATTACH;FMTTYPE=image/jpeg:https://wdlnh.org/wp-content/uploads/2025/11/Screenshot-2025-11-01-225421.jpg
END:VEVENT
BEGIN:VEVENT
DTSTART;TZID=America/New_York:20260503T140000
DTEND;TZID=America/New_York:20260503T160000
DTSTAMP:20260421T015813
CREATED:20260330T183222Z
LAST-MODIFIED:20260330T183227Z
UID:9674-1777816800-1777824000@wdlnh.org
SUMMARY:SOCIAL - Pickity Place
DESCRIPTION:We’re having a lovely dinner with the ladies at Pickity Place in Mason\, NH! We first went last year at the end of Summer and decided to make this an annual event because it was such a wonderful place to visit. This year we’ll be able to see their beautiful gardens in the Spring! \n\n\n\n\n\n\n\nWhat is Pickity Place? \n\n\n\n“Since 1786 our quaint little red cottage has graced the hills of southern New Hampshire\, seemingly untouched by time. The enchanting cottage was chosen by Elizabeth Orton Jones as the model for her illustrations in Little Red Riding Hood (Little Golden Books\, 1948). Today it is a mecca for gardeners\, foodies and anyone looking for inspiration and relaxation. \n\n\n\n\n\n\n\nYou will still find our hilltop hideaway at the end of the winding dirt road. Lighten your spirit as you step out of your world and into ours. Welcome to Pickity Place.” – Pickity Place \n\n\n\n\n\n\n\nOn Sunday\, May 3rd\, the Ladies of the League will visit the magical place known as Pickity Place! If you are a member who is interested in joining us\, you must contact info@wdlnh.org to let us know if you’ll be attending. Reservations have already been made and we must know who will be attending to ensure we have the correct number of seats.  \n\n\n\n\n\n\n\n\n\nThe cost is $34.95/person which includes a 5-course meal and a non-alcoholic beverage. \n\n\n\n\n\n\n\nYou can see the menu for the month of May below:
URL:https://wdlnh.org/events/social-pickity-place-2/
LOCATION:Pickity Place\, 248 Nutting Hill rd.\, Mason\, New Hampshire\, 03048\, United States
ATTACH;FMTTYPE=image/jpeg:https://wdlnh.org/wp-content/uploads/2026/03/529959735_1055152590118349_5582259554147695689_n.jpg
END:VEVENT
BEGIN:VEVENT
DTSTART;TZID=America/New_York:20260517T083000
DTEND;TZID=America/New_York:20260517T163000
DTSTAMP:20260421T015813
CREATED:20260223T044102Z
LAST-MODIFIED:20260223T044104Z
UID:9622-1779006600-1779035400@wdlnh.org
SUMMARY:Basic Pistol Class - WOMEN-ONLY Environment
DESCRIPTION:Basic Pistol Class – WOMEN ONLY Range Staff. Women only students with women only range staff! Women empowering women! \n\n\n\n\n\n\n\nWhen & Where \n\n\n\nOur upcoming class is on Sunday\, May 17th (starting promptly at 8:30 am) to 4:30 pm. It will be held at Londonderry Fish & Game Club. \n\n\n\n\n\n\n\nClass \n\n\n\nThe NRA Basic Pistol Course is intended for all individuals regardless of previous shooting experience or NRA affiliation. This course is a minimum of 8 hours and includes classroom instruction and range time learning to shoot semi-automatic pistols. This is an instructor-led program and is not a blended training course. \n\n\n\n\n\n\n\nStudents learn NRA’s rules for safe gun handling; pistol parts and operation; ammunition; shooting fundamentals; range rules; shooting from a standing position; pistol selection and storage; and continued opportunities for skill development. Students will also complete live-fire training on the range. A NRA Certificate will be issued upon satisfactory completion of this course. \n\n\n\n\n\n\n\nDay of Class \n\n\n\nParticipants should bring their own eye and ear protection (we have some available as well). Also bring beverages\, lunch and any snacks. Please wear appropriate attire — closed-toe shoes and full-coverage shirts as hot brass can be very uncomfortable and present a safety hazard when it hits bare skin. A brimmed hat such as a baseball hat is recommended but not required. Wearing layers is also helpful. \n\n\n\n\n\n\n\nThe Women’s Defense League will supply the firearms\, ammunition\, targets\, and student packets. \n\n\n\n\n\n\n\nRegistration \n\n\n\nAll participants must prepay to reserve their seat. The fee for non-members is $95 and for League members it is $70. Go to this link below to pay prior to class day. Space is limited to 24 participants and spots will only be held for people who pre-pay. NOTE: These classes fill up extremely fast\, spots are reserved on a first-come\, first-serve basis!! \n\n\n\n\n\n\n\nAll participants are also expected to complete a liability waiver prior to participation which will be made available at the event. \n\n\n\n\n\n\n\nYou can register for the class here:  https://wdlnh.org/services/basic%20pistol%20registration/ \n\n\n\n\n\n\n\n*Refund/Cancellation Policy* If The League has to cancel an event due to weather or other issues\, we will gladly issue a refund if you cannot make the re-scheduled class. Any cancellations by participants are not eligible for refunds nor can they be used towards another class in the future.
URL:https://wdlnh.org/events/basic-pistol-class-women-only-environment/
LOCATION:Londonderry Fish & Game Club\, 5 Lund St\, Litchfield \, NH\, 03052\, United States
ATTACH;FMTTYPE=image/png:https://wdlnh.org/wp-content/uploads/2024/08/bpclassapril-1024x534-1.png
END:VEVENT
BEGIN:VEVENT
DTSTART;TZID=America/New_York:20260517T123000
DTEND;TZID=America/New_York:20260517T133000
DTSTAMP:20260421T015813
CREATED:20260329T230900Z
LAST-MODIFIED:20260329T232354Z
UID:9654-1779021000-1779024600@wdlnh.org
SUMMARY:Shoot with the Girls - Happy Spring!
DESCRIPTION:This is a member only event where you can practice by shooting at our Spring targets!   \n\n\n\n\n\n\n\nBring your own firearm and ammo and get help and training from our instructors. Hone in on any problem areas you may be having\, or just continue practicing. If you don’t have a firearm yet\, you can use one of ours! \n\n\n\n\n\n\n\nYou must email events@wdlnh.org to let us know you’ll attend so we have enough range staff.
URL:https://wdlnh.org/events/shoot-with-the-girls-happy-spring/
LOCATION:Londonderry Fish & Game Club\, 5 Lund St\, Litchfield \, NH\, 03052\, United States
ATTACH;FMTTYPE=image/webp:https://wdlnh.org/wp-content/uploads/2022/04/junetarget.webp
END:VEVENT
BEGIN:VEVENT
DTSTART;TZID=America/New_York:20260520T180000
DTEND;TZID=America/New_York:20260520T200000
DTSTAMP:20260421T015813
CREATED:20260223T042904Z
LAST-MODIFIED:20260329T020146Z
UID:9620-1779300000-1779307200@wdlnh.org
SUMMARY:Board Meeting
DESCRIPTION:Board Meeting\n\n\n\nMonthly board meeting \n\n\n\n\n\n\n\nAll members are welcome to join in!! For conference call information email info@wdlnh.org
URL:https://wdlnh.org/events/board-meeting-14/
LOCATION:Zoom Call
ATTACH;FMTTYPE=image/png:https://wdlnh.org/wp-content/uploads/2022/04/BoardMeeting.png
END:VEVENT
BEGIN:VEVENT
DTSTART;TZID=America/New_York:20260530T090000
DTEND;TZID=America/New_York:20260530T163000
DTSTAMP:20260421T015813
CREATED:20260330T003601Z
LAST-MODIFIED:20260330T003705Z
UID:9660-1780131600-1780158600@wdlnh.org
SUMMARY:New England Firearms Advocacy Conference
DESCRIPTION:Citizens Committee for the Right to Keep and Bear Arms along with their New England partners is holding the first ever New England firearms advocacy conference on Saturday\, May 30th. The event will be held at The Castle in Chicopee\, MA. \n\n\n\n\n\n\n\nFrom CCRKBA: \n\n\n\n\nCCRKBA\, in conjunction with our New England partners — Connecticut Citizens Defense League\, Massachusetts Gun Owners’ Action League\, Gun Owners of Maine\, New Hampshire Firearms Coalition\, Rhode Island 2nd Amendment Coalition\, and Vermont Federation of Sportsmen’s Clubs — will host the inaugural Firearms Advocacy Conference \n\n\n\n\n\n\n\nJoin us as the New England Firearms Advocacy Conference where together some of the top minds and staunchest advocates from the New England states to discuss legislation\, litigation\, lobbying\, and more! Speakers are to include Second Amendment giants\, legislators\, attorneys\, and content creators. Participants will be provided coffee\, pastries\, and lunch as well as a program packed with quality presentations and speakers. \n\n\n\n\n\n\n\n\nTickets are only $25 for general admission. You can purchase tickets at their website: https://secure.anedot.com/ccrkba/nefac \n\n\n\n\n\n\n\nThe Women’s Defense League has been advocating for 2nd Amendment Rights in New Hampshire since our founding in 2014. We were on the forefront of passing Constitutional Carry and have won every gun control battle we have fought. 2nd Amendment advocacy is part of our mission. The New England Firearms Advocacy conference is a great way to bring all of the 2nd Amendment advocates in New England together in one place! \n\n\n\n\n\n\n\nWhile we are not associated with CCRKBA\, we do work with their NH partner\, NHFC\, on 2nd Amendment issues in the Granite State.
URL:https://wdlnh.org/events/new-england-advocacy-firearms-conference/
LOCATION:The Castle\, 1599 Memorial Drive\, Chicopee\, Massachusetts\, 01020\, United States
ATTACH;FMTTYPE=image/jpeg:https://wdlnh.org/wp-content/uploads/2026/03/new-england-firearms-advocacy-conference-scheduled-for-may-2026.jpg
ORGANIZER;CN="Citizens Committee for the Right to Keep and Bear Arms":MAILTO:Info@ccrkba.org
END:VEVENT
BEGIN:VEVENT
DTSTART;TZID=America/New_York:20260606T083000
DTEND;TZID=America/New_York:20260606T170000
DTSTAMP:20260421T015813
CREATED:20260408T192958Z
LAST-MODIFIED:20260408T195449Z
UID:9708-1780734600-1780765200@wdlnh.org
SUMMARY:National Women's Range Day at SIG
DESCRIPTION:Gun Owners of America is holding a National Women’s Range Day event at the Sig Sauer Academy. Some instructors and RSOs from the League will be volunteering and some members will be participating! This seems like a great event to meet other women from New Hampshire as well as women instructors from around the country! \n\n\n\n\n\n\n\nFrom GOA: \n\n\n\nNational Women’s Range Day is a full day of training\, empowerment\, and Second Amendment advocacy\, designed to equip women with real world skills and confidence on and off the range. Hosted at the Sig Sauer Academy and Experience Center in Epping\, New Hampshire\, the event brings together some of the leading women instructors\, advocates\, and content creators from across the country for hands-on experience focused on personal safety\, education\, and community. \n\n\n\n\n\n\n\nWhat you can expect: \n\n\n\n      –Live fire training with professional instructors. \n\n\n\n      –Stop the Bleed® training and self-defense instruction. \n\n\n\n      –2A advocacy education and civic engagement. \n\n\n\n      –Exclusive special offers from some of the top 2A brands! \n\n\n\n      –Opportunities to connect with nationally recognized women in the firearms community. \n\n\n\n      –Complimentary annual membership to Gun Owners of America for all attendees. \n\n\n\n\n\n\n\nThere are 2 options: $125 for general admission or $250 “VIP  – $250 (Limited tickets with swag and prizes + meet and greet experience with some of the leading women trainers & content creators.)“ \n\n\n\n\n\n\n\nYou can register for the event here: https://events.goa.org/nwrd/registration/Site/Register
URL:https://wdlnh.org/events/national-womens-range-day-at-sig/
LOCATION:Sig Sauer Academy\, 233 Exeter Road\, Epping\, New Hampshire\, United States
ATTACH;FMTTYPE=image/jpeg:https://wdlnh.org/wp-content/uploads/2026/04/Screenshot-2026-04-08-134651.jpg
ORGANIZER;CN="Gun Owners of America":MAILTO:contact.support@gunowners.org
END:VEVENT
BEGIN:VEVENT
DTSTART;TZID=America/New_York:20260607T093000
DTEND;TZID=America/New_York:20260607T150000
DTSTAMP:20260421T015813
CREATED:20260408T204700Z
LAST-MODIFIED:20260408T204744Z
UID:9723-1780824600-1780844400@wdlnh.org
SUMMARY:Introduction to Shotgun
DESCRIPTION:The Women’s Defense League is partnering up with Iron Rose Women’s Shooting Club and We the Female to bring you an Introduction to Shotgun class! \n\n\n\n\n\n\n\nFrom Iron Rose: \n\n\n\nJoin us for an exciting Introduction to Shotgun class\, brought to you in collaboration with Iron Rose\, We The Female\, and Women’s Defense League. This experience is designed for women who are new to shotgun shooting or looking to build a strong\, confident foundation in a supportive environment. \n\n\n\n\n\n\n\nWe’ll begin the day with doors opening at 9:30 AM at Manchester Firing Line\, where you’ll receive instruction covering safety\, fundamentals\, and what to expect on the range. From there\, we’ll head to Londonderry Fish & Game Club for a provided lunch of pizza and water before finishing the day with hands-on range time. All equipment is included. \n\n\n\n\n\n\n\nWhether it’s your first time picking up a shotgun or you’re looking to refine your skills\, this class offers a welcoming space to learn\, connect\, and grow. Space is limited\, so be sure to reserve your spot today! We look forward to having you with us. \n\n\n\n\n\n\n\nThe cost for the class is $100 and includes classroom training\, range training\, lunch\, eyes\, ears\, and ammo! You don’t have to worry about anything that day but showing up! \n\n\n\n\n\n\n\nYou can register for the event here: https://gunsnh.com/class-registration-for-course-nights/ \n\n\n\n\n\n\n\nBe sure to select the Shotgun class from the menu! If you have any questions\, please email info@wdlnh.org
URL:https://wdlnh.org/events/introduction-to-shotgun/
LOCATION:NH
ATTACH;FMTTYPE=image/jpeg:https://wdlnh.org/wp-content/uploads/2026/04/Shutterstock_506264521-4-scaled.jpg
END:VEVENT
BEGIN:VEVENT
DTSTART;TZID=America/New_York:20260609T190000
DTEND;TZID=America/New_York:20260609T210000
DTSTAMP:20260421T015813
CREATED:20260408T213923Z
LAST-MODIFIED:20260408T214016Z
UID:9737-1781031600-1781038800@wdlnh.org
SUMMARY:SOCIAL - Country Line Dancing
DESCRIPTION:Join the ladies of the League for some Beginner Line Dancing!!! \n\n\n\n\n\n\n\nThe Saddle Up Saloon is offering a beginner’s line dancing class on Tuesday\, June 9th. The cost is $15/person and they’ll give you a $5 voucher towards dinner. \n\n\n\n\n\n\n\nLine dancing starts at 7PM so we’ll probably get there around 5:30 for dinner. \n\n\n\n\n\n\n\nFrom Saddle Up Saloon: \n\n\n\nFee: $15 (includes $5 entrée voucher)  \n\n\n\nRound up your friends and get ready to kick up some dust! Join us for Beginner Line Dancing every other Tuesday this summer at Saddle Up Saloon\, brought to you by the amazing team at Lark Line Dance. Whether you’re just getting started or want to brush up on your basics\, this welcoming class is the perfect way to get moving and grooving to your favorite country hits.  \n\n\n\n\n\n\n\nEmail info@wdlnh.org so we have an idea of how many for dinner reservations!!
URL:https://wdlnh.org/events/social-country-line-dancing/
LOCATION:Saddle Up Saloon\, 92 New Hampshire 125\, Kingston\, New Hampshire\, 03848
ATTACH;FMTTYPE=image/jpeg:https://wdlnh.org/wp-content/uploads/2026/04/314024-2128x1409-line-dancing.jpg
END:VEVENT
BEGIN:VEVENT
DTSTART;TZID=America/New_York:20260610T180000
DTEND;TZID=America/New_York:20260610T190000
DTSTAMP:20260421T015813
CREATED:20260408T175048Z
LAST-MODIFIED:20260408T175051Z
UID:9698-1781114400-1781118000@wdlnh.org
SUMMARY:Board Meeting
DESCRIPTION:Board Meeting\n\n\n\n\n\n\n\nMonthly board meeting. All members are welcome!!! These meetings are where we discuss what is going on with League! Email info@wdlnh.org for conference call information
URL:https://wdlnh.org/events/board-meeting-15/
LOCATION:Zoom Call
ATTACH;FMTTYPE=image/png:https://wdlnh.org/wp-content/uploads/2022/04/BoardMeeting.png
END:VEVENT
BEGIN:VEVENT
DTSTART;TZID=America/New_York:20260708T180000
DTEND;TZID=America/New_York:20260708T190000
DTSTAMP:20260421T015813
CREATED:20260408T205236Z
LAST-MODIFIED:20260408T205239Z
UID:9730-1783533600-1783537200@wdlnh.org
SUMMARY:Board Meeting
DESCRIPTION:Board Meeting\n\n\n\n\n\n\n\nAll members are welcome to join in!! For conference call information email info@wdlnh.org
URL:https://wdlnh.org/events/board-meeting-16/
LOCATION:NH
ATTACH;FMTTYPE=image/png:https://wdlnh.org/wp-content/uploads/2022/04/BoardMeeting.png
END:VEVENT
BEGIN:VEVENT
DTSTART;TZID=America/New_York:20260718T110000
DTEND;TZID=America/New_York:20260718T140000
DTSTAMP:20260421T015813
CREATED:20260408T211308Z
LAST-MODIFIED:20260408T211310Z
UID:9732-1784372400-1784383200@wdlnh.org
SUMMARY:Annual Family Picnic
DESCRIPTION:Our annual family picnic is one of our most fun events of the year!!! This is when members can bring their families to shoot\, socialize with other members and their families\, eat some fantastic food and celebrate the League’s 12th birthday!!!!!!!!! \n\n\n\n\n\n\n\nWe’ll start with some fabulous lunch – the League provides burgers and hot dogs. We ask that members bring a potluck side dish\, drinks\, or dessert! \n\n\n\n\n\n\n\nYou can use sign-up genius to add what you’re bringing: https://www.signupgenius.com/go/805054EA9AD23AAFA7-63419343-12th \n\n\n\n\n\n\n\nBe sure to email events@wdlnh.org to let us know how many will be coming so we have enough burgers\, dogs and range staff!!!
URL:https://wdlnh.org/events/annual-family-picnic-3/
LOCATION:Londonderry Fish & Game Club\, 5 Lund St\, Litchfield \, NH\, 03052\, United States
ATTACH;FMTTYPE=image/jpeg:https://wdlnh.org/wp-content/uploads/2026/04/518384873_1038105445156397_7657003518050155194_n-scaled.jpg
END:VEVENT
END:VCALENDAR