BEGIN:VCALENDAR
VERSION:2.0
PRODID:-//Women&#039;s Defense League of New Hampshire - ECPv6.15.20//NONSGML v1.0//EN
CALSCALE:GREGORIAN
METHOD:PUBLISH
X-ORIGINAL-URL:https://wdlnh.org
X-WR-CALDESC:Events for Women&#039;s Defense League of New Hampshire
REFRESH-INTERVAL;VALUE=DURATION:PT1H
X-Robots-Tag:noindex
X-PUBLISHED-TTL:PT1H
BEGIN:VTIMEZONE
TZID:UTC
BEGIN:STANDARD
TZOFFSETFROM:+0000
TZOFFSETTO:+0000
TZNAME:UTC
DTSTART:20150101T000000
END:STANDARD
END:VTIMEZONE
BEGIN:VEVENT
DTSTART;TZID=UTC:20180209T083000
DTEND;TZID=UTC:20180209T180000
DTSTAMP:20260419T212201
CREATED:20180129T044814Z
LAST-MODIFIED:20180129T050246Z
UID:5003-1518165000-1518199200@wdlnh.org
SUMMARY:Liberty Forum
DESCRIPTION:Stop by and say ‘HELLO!’ at our Liberty Forum booth! We’ll be there from Friday February 9 through Saturday February 10th.
URL:https://wdlnh.org/events/5003/
LOCATION:Radisson Hotel\, 700 Elm St.\, Manchester\, NH\, United States
CATEGORIES:Outreach
END:VEVENT
BEGIN:VEVENT
DTSTART;TZID=UTC:20170910T090000
DTEND;TZID=UTC:20170910T140000
DTSTAMP:20260419T212201
CREATED:20170325T070107Z
LAST-MODIFIED:20170807T220315Z
UID:3989-1505034000-1505052000@wdlnh.org
SUMMARY:Concord Gun Show
DESCRIPTION:Stop by and see us at the Concord Gun Show!!! We’ll have some merchandise\, including some of our fabulous ammo jewelry made by our members!!!
URL:https://wdlnh.org/events/concord-gun-show-4/
LOCATION:Everett Ice Arena\, Concord
CATEGORIES:Outreach
END:VEVENT
BEGIN:VEVENT
DTSTART;TZID=UTC:20170909T090000
DTEND;TZID=UTC:20170909T170000
DTSTAMP:20260419T212201
CREATED:20170325T070008Z
LAST-MODIFIED:20170807T220402Z
UID:3988-1504947600-1504976400@wdlnh.org
SUMMARY:Concord Gun Show
DESCRIPTION:Stop by and see us at the Concord Gun Show!!! We’ll have some merchandise\, including some of our fabulous ammo jewelry made by our members!!!
URL:https://wdlnh.org/events/concord-gun-show-3/
LOCATION:Everett Ice Arena\, Concord
CATEGORIES:Outreach
END:VEVENT
BEGIN:VEVENT
DTSTART;TZID=UTC:20170204T080000
DTEND;TZID=UTC:20170204T180000
DTSTAMP:20260419T212201
CREATED:20161130T020111Z
LAST-MODIFIED:20161130T020111Z
UID:3781-1486195200-1486231200@wdlnh.org
SUMMARY:Liberty Forum
DESCRIPTION:Stop by and say ‘HELLO!’ at our Liberty Forum booth! We’ll be there from Friday February 3 through Saturday February 4th. It’s a great event and we’ll be raffling off a ‘self rescuing Princess’ basket!
URL:https://wdlnh.org/events/liberty-forum-2/
LOCATION:Radisson Hotel\, 700 Elm St.\, Manchester\, NH\, United States
CATEGORIES:Outreach
END:VEVENT
BEGIN:VEVENT
DTSTART;TZID=UTC:20170203T080000
DTEND;TZID=UTC:20170203T180000
DTSTAMP:20260419T212201
CREATED:20161130T015938Z
LAST-MODIFIED:20161130T015938Z
UID:3778-1486108800-1486144800@wdlnh.org
SUMMARY:Liberty Forum
DESCRIPTION:Stop by and say ‘HELLO!’ at our Liberty Forum booth! We’ll be there from Thursday February 3 through Friday February 4th. It’s a great event and we’ll be raffling off a ‘self rescuing Princess’ basket!
URL:https://wdlnh.org/events/liberty-forum/
LOCATION:Radisson Hotel\, 700 Elm St.\, Manchester\, NH\, United States
CATEGORIES:Outreach
END:VEVENT
BEGIN:VEVENT
DTSTART;TZID=UTC:20160417T090000
DTEND;TZID=UTC:20160417T140000
DTSTAMP:20260419T212201
CREATED:20160408T053541Z
LAST-MODIFIED:20160408T053652Z
UID:3333-1460883600-1460901600@wdlnh.org
SUMMARY:Concord Gun Show
DESCRIPTION:Everett Ice Arena
URL:https://wdlnh.org/events/concord-gun-show-2/
LOCATION:Everett Ice Arena\, Concord
CATEGORIES:Outreach
ATTACH;FMTTYPE=image/jpeg:https://wdlnh.org/wp-content/uploads/2015/07/gunshow.jpg
END:VEVENT
BEGIN:VEVENT
DTSTART;TZID=UTC:20160416T090000
DTEND;TZID=UTC:20160416T170000
DTSTAMP:20260419T212201
CREATED:20160408T053424Z
LAST-MODIFIED:20160408T053743Z
UID:3331-1460797200-1460826000@wdlnh.org
SUMMARY:Concord Gun Show
DESCRIPTION:Everett Ice Arena
URL:https://wdlnh.org/events/concord-gun-show/
LOCATION:Everett Ice Aren\, Concord
CATEGORIES:Outreach
ATTACH;FMTTYPE=image/jpeg:https://wdlnh.org/wp-content/uploads/2015/07/libertyforum.jpg
END:VEVENT
END:VCALENDAR