BEGIN:VCALENDAR
VERSION:2.0
PRODID:-//Women&#039;s Defense League of New Hampshire - ECPv6.15.20//NONSGML v1.0//EN
CALSCALE:GREGORIAN
METHOD:PUBLISH
X-ORIGINAL-URL:https://wdlnh.org
X-WR-CALDESC:Events for Women&#039;s Defense League of New Hampshire
REFRESH-INTERVAL;VALUE=DURATION:PT1H
X-Robots-Tag:noindex
X-PUBLISHED-TTL:PT1H
BEGIN:VTIMEZONE
TZID:America/New_York
BEGIN:DAYLIGHT
TZOFFSETFROM:-0500
TZOFFSETTO:-0400
TZNAME:EDT
DTSTART:20230312T070000
END:DAYLIGHT
BEGIN:STANDARD
TZOFFSETFROM:-0400
TZOFFSETTO:-0500
TZNAME:EST
DTSTART:20231105T060000
END:STANDARD
BEGIN:DAYLIGHT
TZOFFSETFROM:-0500
TZOFFSETTO:-0400
TZNAME:EDT
DTSTART:20240310T070000
END:DAYLIGHT
BEGIN:STANDARD
TZOFFSETFROM:-0400
TZOFFSETTO:-0500
TZNAME:EST
DTSTART:20241103T060000
END:STANDARD
BEGIN:DAYLIGHT
TZOFFSETFROM:-0500
TZOFFSETTO:-0400
TZNAME:EDT
DTSTART:20250309T070000
END:DAYLIGHT
BEGIN:STANDARD
TZOFFSETFROM:-0400
TZOFFSETTO:-0500
TZNAME:EST
DTSTART:20251102T060000
END:STANDARD
BEGIN:DAYLIGHT
TZOFFSETFROM:-0500
TZOFFSETTO:-0400
TZNAME:EDT
DTSTART:20260308T070000
END:DAYLIGHT
BEGIN:STANDARD
TZOFFSETFROM:-0400
TZOFFSETTO:-0500
TZNAME:EST
DTSTART:20261101T060000
END:STANDARD
BEGIN:DAYLIGHT
TZOFFSETFROM:-0500
TZOFFSETTO:-0400
TZNAME:EDT
DTSTART:20270314T070000
END:DAYLIGHT
BEGIN:STANDARD
TZOFFSETFROM:-0400
TZOFFSETTO:-0500
TZNAME:EST
DTSTART:20271107T060000
END:STANDARD
END:VTIMEZONE
BEGIN:VTIMEZONE
TZID:UTC
BEGIN:STANDARD
TZOFFSETFROM:+0000
TZOFFSETTO:+0000
TZNAME:UTC
DTSTART:20150101T000000
END:STANDARD
END:VTIMEZONE
BEGIN:VEVENT
DTSTART;TZID=America/New_York:20260314T090000
DTEND;TZID=America/New_York:20260315T140000
DTSTAMP:20260419T174700
CREATED:20260209T053736Z
LAST-MODIFIED:20260209T055531Z
UID:9577-1773478800-1773583200@wdlnh.org
SUMMARY:Rochester Gun Show
DESCRIPTION:We’ll be at the Rochester gun show on March 14th from 9AM – 4PM and then March 15th from 9AM to 2PM \n\n\n\n\n\n\n\nStop by and say Hello!!! Check out 90+ vendors!!! \n\n\n\n\n\n\n\nFreedom Promotions\, LLC has been doing a fantastic job bringing gun shows BACK to New England!!! There are a variety of vendors and selections. So much to choose from in one weekend!! The Rochester Gun Show is always a good time! \n\n\n\n\n\n\n\nFreedom Promotions has been extremely supportive of The League’s mission!! We’ve been attending as many of their gun shows as possible (we think probably all of them!) Not only do we love meeting new people\, but we love meeting members and women who want to find other women to shoot with! \n\n\n\n\n\n\n\nVisit the Rochester Gun Show and peruse the multiple vendors\, get information about organizations\, visit the League at our table\, or maybe buy something new you’ve been wanting to add to your collection!
URL:https://wdlnh.org/events/rochester-gun-show-2/
LOCATION:American Legion Post 7\, 188 Eastern Ave\, Rochester\, New Hampshire\, United States
CATEGORIES:Outreach
ATTACH;FMTTYPE=image/jpeg:https://wdlnh.org/wp-content/uploads/2026/02/Screenshot-2026-02-09-000216.jpg
END:VEVENT
BEGIN:VEVENT
DTSTART;TZID=America/New_York:20240406T090000
DTEND;TZID=America/New_York:20240406T170000
DTSTAMP:20260419T174700
CREATED:20231219T222816Z
LAST-MODIFIED:20231219T223342Z
UID:8612-1712394000-1712422800@wdlnh.org
SUMMARY:SAVE THE DATE - Trinity Sportsman Show
DESCRIPTION:We had a booth at this event last year and are in the planning stages for this year again as well!!! \n\n\n\nWe’ll add more detail and information as we receive it.
URL:https://wdlnh.org/events/save-the-date-trinity-sportsman-show/
LOCATION:New Hampshire
CATEGORIES:Outreach
ATTACH;FMTTYPE=image/png:https://wdlnh.org/wp-content/uploads/2023/12/leaguetable.png
END:VEVENT
BEGIN:VEVENT
DTSTART;TZID=America/New_York:20240316T120000
DTEND;TZID=America/New_York:20240316T140000
DTSTAMP:20260419T174700
CREATED:20231219T222228Z
LAST-MODIFIED:20240305T150359Z
UID:8608-1710590400-1710597600@wdlnh.org
SUMMARY:Annual 2A Freedom Rally
DESCRIPTION:This is a tentative date for our annual 2A Freedom Rally in Concord.  \n\n\n\nWe will keep you updated when all dates are finalized! \n\n\n\n\n\n\n\n\n\n\n\n\n\n\n\n\n\n\n\nDetails
URL:https://wdlnh.org/events/tentative-date-annual-2a-freedom-rally/
LOCATION:New Hampshire
CATEGORIES:Education,Outreach
ATTACH;FMTTYPE=image/jpeg:https://wdlnh.org/wp-content/uploads/2016/04/LeagueMembers.jpg
END:VEVENT
BEGIN:VEVENT
DTSTART;TZID=UTC:20220326T123000
DTEND;TZID=UTC:20220326T153000
DTSTAMP:20260419T174700
CREATED:20220308T032620Z
LAST-MODIFIED:20220308T033152Z
UID:8030-1648297800-1648308600@wdlnh.org
SUMMARY:Home and Medical Preparedness Workshop
DESCRIPTION:The League is going to have a table at this event. It should be extremely interesting\, especially in the crazy times we’re living in! \nIt is $10 to get into the event – you can get your tickets in advance here: https://www.eventbrite.com/e/home-and-medical-preparedness-workshop-tickets-275948859467 \nOr pay at the door! \n  \nWhen: Saturday\, March 26th \nTime: Noon – 3:30 PM \nWhere: Londonderry Baptist Church \nCost: $10 \n 
URL:https://wdlnh.org/events/home-medical-preparedness-workshop/
LOCATION:Londonderry Baptist Church\, 368 Mammoth Road\, Londonderry\, NH\, 03053\, United States
CATEGORIES:Outreach
END:VEVENT
BEGIN:VEVENT
DTSTART;TZID=UTC:20220319T160000
DTEND;TZID=UTC:20220319T200000
DTSTAMP:20260419T174700
CREATED:20220226T071605Z
LAST-MODIFIED:20220226T071605Z
UID:8015-1647705600-1647720000@wdlnh.org
SUMMARY:Women's Symposium - Renaissance Firearms
DESCRIPTION:The League will be joining Renaissance Firearms for a Women-only Symposium.  The symposium is full but women can still come down and shoot – try it before you buy it!  We’ll also have a table there so you can talk to women about the League and everything we have to offer!!\n\nFrom Renaissance Firearms:\nThe line up says it all with\,\n* Women’s defense league of New Hampshire and guest speaker Donna Temm from Alternative Solutions.\n\n* Becoming an outdoors woman NH\, talking about everything outdoors from Hunting\, Fishing\, Hiking\, Archery and Survival.\n\n* UNH shooting team\, highlighting sport shooting like Trap\, Skeet\, Sporting clays\, Pistol and Rifle.\n\n* Our own female Instructor and staff.\n\nWith all that\, there is going to be So much to take away from this event! All I can say is even I am excited and I’m not even allowed to go. \n\n\nIt’s all about you! No boys allowed\, that includes the range 4-8pm March 19th and 20th for those who don’t get seats for the main event. You’re still more than welcome to come down and shoot for free\, stay for some good conversation when the speakers are finished whether you’re just curious\, new to the shooting world or you’re just looking into expanding your knowledge.\n\n\nWe’ll have staff ready and available for any questions about future classes\, firearms\, holsters\, ammo or even advice on clothing while carrying or alternate carry methods. Whatever you’re thinking or questioning\, this is the time to seek those answers and we’re here for you!
URL:https://wdlnh.org/events/womens-symposium-renaissance-firearms/
LOCATION:Renaissance Firearms Barrington\, NH\, 55 Calef Highway\, Barrington\, NH\, 03825\, United States
CATEGORIES:Outreach
END:VEVENT
BEGIN:VEVENT
DTSTART;TZID=UTC:20210413T180000
DTEND;TZID=UTC:20210413T213000
DTSTAMP:20260419T174700
CREATED:20210402T001730Z
LAST-MODIFIED:20210402T001730Z
UID:7551-1618336800-1618349400@wdlnh.org
SUMMARY:GIRLS MOVIE NIGHT OUT
DESCRIPTION:GIRLS NIGHT OUT with the Women’s Defense League\n\n\n\n\n\n\n\nThe Women’s Defense League will be holding a Girls Night Out for dinner\, drinks and to watch a movie starring ‘bada$$’ women – Terminator: Dark Fate! \nThis is a PRIVATE SHOWING just for Women’s Defense League members and their guests \nYou must be a member to attend – cost is $5 BUT you can bring a girlfriend\, Mom\, daughter\, wife\, granddaughter for FREE. \nThe event begins at 6PM at Chunky’s in Manchester! \nChunky’s offers dinner and cocktails – you can find more information out about the venue and menu on their website: https://www.chunkys.com/chunkys-menu/ \nDinner and drinks will be the responsibility of attendees \nYou can find out more about Terminator: Dark Fate here: https://www.imdb.com/title/tt6450804/ \nPlease note the movie is rated R \nYou must register through EventBrite.  You can find that information here: https://www.eventbrite.com/e/girls-movie-night-out-terminator-dark-fate-sarah-connor-is-back-tickets-148916405979
URL:https://wdlnh.org/events/girls-movie-night/
LOCATION:Chunky’s\, 707 Huse Rd\, Manchester\, NH\, 03101\, United States
CATEGORIES:Outreach
ORGANIZER;CN="":MAILTO:kimberlyamorin@gmail.com
END:VEVENT
BEGIN:VEVENT
DTSTART;TZID=UTC:20200426T090000
DTEND;TZID=UTC:20200426T140000
DTSTAMP:20260419T174700
CREATED:20200301T212929Z
LAST-MODIFIED:20200414T171631Z
UID:6979-1587891600-1587909600@wdlnh.org
SUMMARY:Concord Gun Show - CANCELLED
DESCRIPTION:The League will be at the Concord Gun Show at the Bektash Shrine Center in Concord. Stop by and say hello! \nMore details will follow but we’ll be there!
URL:https://wdlnh.org/events/concord-gun-show-12/
LOCATION:Bektash Shrine Center\, 189 Pembroke Road\, Concord\, NH\, 03302\, United States
CATEGORIES:Outreach
END:VEVENT
BEGIN:VEVENT
DTSTART;TZID=UTC:20200425T090000
DTEND;TZID=UTC:20200425T170000
DTSTAMP:20260419T174700
CREATED:20200301T212846Z
LAST-MODIFIED:20200414T171648Z
UID:6975-1587805200-1587834000@wdlnh.org
SUMMARY:Concord Gun Show - CANCELLED
DESCRIPTION:The League will be at the Concord Gun Show at the Bektash Shrine Center in Concord. Stop by and say hello! \nMore details will follow but we’ll be there!
URL:https://wdlnh.org/events/concord-gun-show-11/
LOCATION:Bektash Shrine Center\, 189 Pembroke Road\, Concord\, NH\, 03302\, United States
CATEGORIES:Outreach
ORGANIZER;CN="":MAILTO:info@wdlnh.org
END:VEVENT
BEGIN:VEVENT
DTSTART;TZID=UTC:20200404T100000
DTEND;TZID=UTC:20200404T170000
DTSTAMP:20260419T174700
CREATED:20200301T212206Z
LAST-MODIFIED:20200414T171728Z
UID:6966-1585994400-1586019600@wdlnh.org
SUMMARY:16th Annual Sportmen's Event - Concord - CANCELLED
DESCRIPTION:The League will be at the 16th Annual Sportsmen’s Event at the Trinity Baptist Church in Concord\, NH on Saturday\, April 4th from 10AM – 5PM. Stop by and say hello and check out some of the great organizations that will be there as well!
URL:https://wdlnh.org/events/16th-annual-sportmens-event-concord/
LOCATION:Trinity Baptist Church\, 80 Clinton Street\, Concord\, NH\, 03302\, United States
CATEGORIES:Outreach
ORGANIZER;CN="":MAILTO:info@wdlnh.org
END:VEVENT
BEGIN:VEVENT
DTSTART;TZID=UTC:20200314T120000
DTEND;TZID=UTC:20200314T140000
DTSTAMP:20260419T174700
CREATED:20200206T052720Z
LAST-MODIFIED:20200206T052720Z
UID:6949-1584187200-1584194400@wdlnh.org
SUMMARY:6th Annual 2A Rally
DESCRIPTION:
URL:https://wdlnh.org/events/6th-annual-2a-rally/
LOCATION:State House\, 25 Capitol St\, Concord\, NH\, United States
CATEGORIES:Outreach
END:VEVENT
BEGIN:VEVENT
DTSTART;TZID=UTC:20200112T090000
DTEND;TZID=UTC:20200112T140000
DTSTAMP:20260419T174700
CREATED:20191206T210154Z
LAST-MODIFIED:20191206T210154Z
UID:6834-1578819600-1578837600@wdlnh.org
SUMMARY:Manchester Gun Show
DESCRIPTION:Join the Women’s Defense League and check out the FREE simulator range!!!!
URL:https://wdlnh.org/events/manchester-gun-show-8/
LOCATION:DoubleTree Hotel\, 700 Elm St\, Manchester\, NH\, 03104\, United States
CATEGORIES:Outreach
END:VEVENT
BEGIN:VEVENT
DTSTART;TZID=UTC:20200111T090000
DTEND;TZID=UTC:20200111T170000
DTSTAMP:20260419T174700
CREATED:20191206T210021Z
LAST-MODIFIED:20191206T210021Z
UID:6831-1578733200-1578762000@wdlnh.org
SUMMARY:Manchester Gun Show
DESCRIPTION:Join the Women’s Defense League and check out the FREE simulator range!!!! \n 
URL:https://wdlnh.org/events/manchester-gun-show-7/
LOCATION:DoubleTree Hotel\, 700 Elm St\, Manchester\, NH\, 03104\, United States
CATEGORIES:Outreach
END:VEVENT
BEGIN:VEVENT
DTSTART;TZID=UTC:20191020T090000
DTEND;TZID=UTC:20191020T090000
DTSTAMP:20260419T174700
CREATED:20191009T022235Z
LAST-MODIFIED:20191009T022235Z
UID:6796-1571562000-1571562000@wdlnh.org
SUMMARY:Manchester Gun Show
DESCRIPTION:Join us for some virtual zombie reality!!!!!
URL:https://wdlnh.org/events/manchester-gun-show-6/
LOCATION:DoubleTree Hotel\, 700 Elm St\, Manchester\, NH\, 03104\, United States
CATEGORIES:Outreach
END:VEVENT
BEGIN:VEVENT
DTSTART;TZID=UTC:20191019T090000
DTEND;TZID=UTC:20191019T090000
DTSTAMP:20260419T174700
CREATED:20191009T022139Z
LAST-MODIFIED:20191009T022139Z
UID:6791-1571475600-1571475600@wdlnh.org
SUMMARY:Manchester Gun Show
DESCRIPTION:  \nJoin us at the Manchester Gun Show where you can experience virtual zombie reality!!!
URL:https://wdlnh.org/events/manchester-gun-show-5/
LOCATION:DoubleTree Hotel\, 700 Elm St\, Manchester\, NH\, 03104\, United States
CATEGORIES:Outreach
END:VEVENT
BEGIN:VEVENT
DTSTART;TZID=UTC:20190907T090000
DTEND;TZID=UTC:20190907T170000
DTSTAMP:20260419T174700
CREATED:20190805T164103Z
LAST-MODIFIED:20190805T164103Z
UID:6758-1567846800-1567875600@wdlnh.org
SUMMARY:Concord Gun Show
DESCRIPTION:We’ll be at the Concord Gun Show all day! Stop by and say Hello; check out our organization or purchase merchandise!
URL:https://wdlnh.org/events/concord-gun-show-9/
LOCATION:Everett Ice Arena\, Concord
CATEGORIES:Outreach
END:VEVENT
BEGIN:VEVENT
DTSTART;TZID=UTC:20190309T120000
DTEND;TZID=UTC:20190309T140000
DTSTAMP:20260419T174700
CREATED:20190205T201324Z
LAST-MODIFIED:20190205T201324Z
UID:5839-1552132800-1552140000@wdlnh.org
SUMMARY:HOLD THE LINE RALLY
DESCRIPTION:WHAT:  Hold the Line – Fifth Annual Gun Rights Rally\nWHERE:  New Hampshire State House\nWHEN:  Noon to 2:00pm\nNew Hampshire citizens are witnessing an unparalleled attack on our natural rights. The time for complacency has passed; it’s time for us to HOLD THE LINE. Join the Women’s Defense League of NH\, New Hampshire 3%ers and ProGunNH as we join forces and remember that the first incursion of the American Revolution took place here\, in the Live Free or Die State\, when New Hampshire men successfully defeated King George III’s attempt to disarm them. \nPlease join us as we peaceably take our stand – 245 years later – against any weakening of NH’s Article 2a on the steps  of the NH State House. \nParking is both on-street and nearby.  You can find parking details here. \nDriving directions to the NH State Capitol Building are available here. \nVendors welcome but space is limited.  Contact us at info@wdlnh.org for a reservation. \nRegister onsite for raffles sponsored by NH 2A supporters!
URL:https://wdlnh.org/events/hold-line-rally/
LOCATION:State House\, 25 Capitol St\, Concord\, NH\, United States
CATEGORIES:Outreach
END:VEVENT
BEGIN:VEVENT
DTSTART;TZID=UTC:20190217T110000
DTEND;TZID=UTC:20190217T140000
DTSTAMP:20260419T174700
CREATED:20190204T054459Z
LAST-MODIFIED:20190204T064527Z
UID:5829-1550401200-1550412000@wdlnh.org
SUMMARY:4G Networking Event!
DESCRIPTION:You must register at Event Brite in order to participate in this event!!
URL:https://wdlnh.org/events/4g-networking-event/
LOCATION:Londonderry Fish & Game Club\, 5 Lund St\, Litchfield \, NH\, 03052\, United States
CATEGORIES:Outreach
END:VEVENT
BEGIN:VEVENT
DTSTART;TZID=UTC:20190209T090000
DTEND;TZID=UTC:20190209T090000
DTSTAMP:20260419T174700
CREATED:20190105T060803Z
LAST-MODIFIED:20190106T062120Z
UID:5779-1549702800-1549702800@wdlnh.org
SUMMARY:Manchester Gun Show
DESCRIPTION:Join us at the Manchester Gun Show at the DoubleTree Hotel right downtown!!!! \nWe’ll once again be hosting the ZOMBIE APOCALYPSE tent where you can virtually shoot zombies!!!!!!!!!!!!!!!!!!
URL:https://wdlnh.org/events/manchester-gun-show-3/
LOCATION:DoubleTree Hotel\, 700 Elm St\, Manchester\, NH\, 03104\, United States
CATEGORIES:Outreach
ORGANIZER;CN="":MAILTO:kelleyandty@yahoo.com
END:VEVENT
BEGIN:VEVENT
DTSTART;TZID=UTC:20180923T100000
DTEND;TZID=UTC:20180923T160000
DTSTAMP:20260419T174700
CREATED:20180824T051618Z
LAST-MODIFIED:20180824T051821Z
UID:5526-1537696800-1537718400@wdlnh.org
SUMMARY:Open House at East Central Arms
DESCRIPTION:  \nEast Central Arms is holding an Open House and the Women’s Defense League will be there!!!! Stop by and learn about The League all while checking out some cool items at East Central Arms! \nWe are opening our doors to you for an Open House from 10:00 am to 4:00 pm\, Sunday\, September 23\, 2018\, at East Central Arms\, 30 Depot Road\, New Durham\, NH 03855\, just off\nRoute 11 (across the street from Johnson’s Restaurant and Marketplace). \nThis is the place where you can find just about anything you need that relates to firearms. \nRepresentatives from the Women’s Defense League of NH\, the state’s only premier shooting league consisting of all women instructors and range support teaching all women\, and U.S.\nLawShield\, the country’s elite program providing legal defense and advice\, will be available to answer any of your questions. \nWe are also cooking up some burgers and dogs on the grill for lunch. \n***Specials for the Ladies only!!\n–>10% off any product in the store\, except new guns.\n–>Any woman who comes to the store has the opportunity to get three tickets for a drawing at the end of the day for a “Gun Tote’n Mamas” or “Montana West” conceal carry purse\, in stock only. \nEither make a minimum purchase of $50\, sign up to become a member of the Women’s Defense League of NH\, or sign up to become a member of U.S. LawShield. \nThat gives you three chances to win!!!
URL:https://wdlnh.org/events/open-house-east-central-arms/
LOCATION:East Central Arms\, 30 Depot Road\, New Durham\, New Hampshire\, 03855
CATEGORIES:Outreach
END:VEVENT
BEGIN:VEVENT
DTSTART;TZID=UTC:20180908T090000
DTEND;TZID=UTC:20180908T170000
DTSTAMP:20260419T174700
CREATED:20180803T182652Z
LAST-MODIFIED:20180803T182652Z
UID:5499-1536397200-1536426000@wdlnh.org
SUMMARY:Concord Gun Show
DESCRIPTION:Stop by and see us at the Concord Gun Show!!! We’ll have some merchandise\, including some of our fabulous ammo jewelry made by our members!!!
URL:https://wdlnh.org/events/concord-gun-show-5/
LOCATION:Everett Ice Arena\, Concord
CATEGORIES:Outreach
END:VEVENT
BEGIN:VEVENT
DTSTART;TZID=UTC:20180506T100000
DTEND;TZID=UTC:20180506T140000
DTSTAMP:20260419T174700
CREATED:20180412T190132Z
LAST-MODIFIED:20180502T033111Z
UID:5217-1525600800-1525615200@wdlnh.org
SUMMARY:Open House - Wilson Hill Pistol Club
DESCRIPTION:The Women’s Defense League will have a table at Wilson Hill Pistol Club’s OPEN HOUSE!!!! Come check out our ‘home’ club! \nStop by and see us and check out some of the things Wilson Hill has to offer! \nFrom Wilson Hill:\n \nHere is your chance to check out Manchester’s best kept secret.\n \nWe will be having a cookout\, tours and membership information. Interested in a firearms safety class or an advanced training course? Come talk to our Professional Instructors.  \nThinking about the challenge of Bullseye shooting? League members will be happy to tell you all about it.  \nInterested in a certain firearm but you don’t have the ability to try one before you buy it? We will have several popular concealed carry and home defense handguns for you to try.\nThe cost for “try a gun” is $10.00 per person. That allows you to try several different guns for one low price.\n \nCookout price is $5.00 per person. (Burger or hot dog/chips/soda)\n \nThis is open to both members and the general public.
URL:https://wdlnh.org/events/open-house-wilson-hill-pistol-club/
LOCATION:Wilson Hill Pistol Club\, 72 Lakeshore Road\, Manchester
CATEGORIES:Outreach
END:VEVENT
BEGIN:VEVENT
DTSTART;TZID=UTC:20180421T090000
DTEND;TZID=UTC:20180421T170000
DTSTAMP:20260419T174700
CREATED:20180405T033430Z
LAST-MODIFIED:20180405T033756Z
UID:5195-1524301200-1524330000@wdlnh.org
SUMMARY:Open House at Wildlife Sport Outfitters
DESCRIPTION:The Women’s Defense League will have an informational table at Wildlife Sport Outfitters OPEN HOUSE. We’ll have League gear\, information and ammo jewelry made by our very own members!  Stop by and say HELLO!!!!
URL:https://wdlnh.org/events/open-house-wildlife-sport-outfitters-2/
LOCATION:Wildlife Sport Outfitters\, 2188 Candia Rd\, Manchester\, NH\, 03109\, United States
CATEGORIES:Outreach
END:VEVENT
BEGIN:VEVENT
DTSTART;TZID=UTC:20180310T120000
DTEND;TZID=UTC:20180310T140000
DTSTAMP:20260419T174700
CREATED:20180129T054008Z
LAST-MODIFIED:20180129T054008Z
UID:5008-1520683200-1520690400@wdlnh.org
SUMMARY:4th Annual Gun Rights Rally!!!
DESCRIPTION:
URL:https://wdlnh.org/events/4th-annual-gun-rights-rally/
LOCATION:State House\, 25 Capitol St\, Concord\, NH\, United States
CATEGORIES:Outreach
END:VEVENT
BEGIN:VEVENT
DTSTART;TZID=UTC:20180210T083000
DTEND;TZID=UTC:20180210T180000
DTSTAMP:20260419T174700
CREATED:20180129T044904Z
LAST-MODIFIED:20180129T050204Z
UID:5005-1518251400-1518285600@wdlnh.org
SUMMARY:Liberty Forum
DESCRIPTION:Stop by and say ‘HELLO!’ at our Liberty Forum booth! We’ll be there from Friday February 9 through Saturday February 10th.
URL:https://wdlnh.org/events/liberty-forum-3/
LOCATION:Radisson Hotel\, 700 Elm St.\, Manchester\, NH\, United States
CATEGORIES:Outreach
END:VEVENT
BEGIN:VEVENT
DTSTART;TZID=UTC:20180209T083000
DTEND;TZID=UTC:20180209T180000
DTSTAMP:20260419T174700
CREATED:20180129T044814Z
LAST-MODIFIED:20180129T050246Z
UID:5003-1518165000-1518199200@wdlnh.org
SUMMARY:Liberty Forum
DESCRIPTION:Stop by and say ‘HELLO!’ at our Liberty Forum booth! We’ll be there from Friday February 9 through Saturday February 10th.
URL:https://wdlnh.org/events/5003/
LOCATION:Radisson Hotel\, 700 Elm St.\, Manchester\, NH\, United States
CATEGORIES:Outreach
END:VEVENT
BEGIN:VEVENT
DTSTART;TZID=UTC:20170910T090000
DTEND;TZID=UTC:20170910T140000
DTSTAMP:20260419T174700
CREATED:20170325T070107Z
LAST-MODIFIED:20170807T220315Z
UID:3989-1505034000-1505052000@wdlnh.org
SUMMARY:Concord Gun Show
DESCRIPTION:Stop by and see us at the Concord Gun Show!!! We’ll have some merchandise\, including some of our fabulous ammo jewelry made by our members!!!
URL:https://wdlnh.org/events/concord-gun-show-4/
LOCATION:Everett Ice Arena\, Concord
CATEGORIES:Outreach
END:VEVENT
BEGIN:VEVENT
DTSTART;TZID=UTC:20170909T090000
DTEND;TZID=UTC:20170909T170000
DTSTAMP:20260419T174700
CREATED:20170325T070008Z
LAST-MODIFIED:20170807T220402Z
UID:3988-1504947600-1504976400@wdlnh.org
SUMMARY:Concord Gun Show
DESCRIPTION:Stop by and see us at the Concord Gun Show!!! We’ll have some merchandise\, including some of our fabulous ammo jewelry made by our members!!!
URL:https://wdlnh.org/events/concord-gun-show-3/
LOCATION:Everett Ice Arena\, Concord
CATEGORIES:Outreach
END:VEVENT
BEGIN:VEVENT
DTSTART;TZID=UTC:20170204T080000
DTEND;TZID=UTC:20170204T180000
DTSTAMP:20260419T174700
CREATED:20161130T020111Z
LAST-MODIFIED:20161130T020111Z
UID:3781-1486195200-1486231200@wdlnh.org
SUMMARY:Liberty Forum
DESCRIPTION:Stop by and say ‘HELLO!’ at our Liberty Forum booth! We’ll be there from Friday February 3 through Saturday February 4th. It’s a great event and we’ll be raffling off a ‘self rescuing Princess’ basket!
URL:https://wdlnh.org/events/liberty-forum-2/
LOCATION:Radisson Hotel\, 700 Elm St.\, Manchester\, NH\, United States
CATEGORIES:Outreach
END:VEVENT
BEGIN:VEVENT
DTSTART;TZID=UTC:20170203T080000
DTEND;TZID=UTC:20170203T180000
DTSTAMP:20260419T174700
CREATED:20161130T015938Z
LAST-MODIFIED:20161130T015938Z
UID:3778-1486108800-1486144800@wdlnh.org
SUMMARY:Liberty Forum
DESCRIPTION:Stop by and say ‘HELLO!’ at our Liberty Forum booth! We’ll be there from Thursday February 3 through Friday February 4th. It’s a great event and we’ll be raffling off a ‘self rescuing Princess’ basket!
URL:https://wdlnh.org/events/liberty-forum/
LOCATION:Radisson Hotel\, 700 Elm St.\, Manchester\, NH\, United States
CATEGORIES:Outreach
END:VEVENT
BEGIN:VEVENT
DTSTART;TZID=UTC:20160417T090000
DTEND;TZID=UTC:20160417T140000
DTSTAMP:20260419T174700
CREATED:20160408T053541Z
LAST-MODIFIED:20160408T053652Z
UID:3333-1460883600-1460901600@wdlnh.org
SUMMARY:Concord Gun Show
DESCRIPTION:Everett Ice Arena
URL:https://wdlnh.org/events/concord-gun-show-2/
LOCATION:Everett Ice Arena\, Concord
CATEGORIES:Outreach
ATTACH;FMTTYPE=image/jpeg:https://wdlnh.org/wp-content/uploads/2015/07/gunshow.jpg
END:VEVENT
END:VCALENDAR