BEGIN:VCALENDAR
VERSION:2.0
PRODID:-//Women&#039;s Defense League of New Hampshire - ECPv6.15.20//NONSGML v1.0//EN
CALSCALE:GREGORIAN
METHOD:PUBLISH
X-ORIGINAL-URL:https://wdlnh.org
X-WR-CALDESC:Events for Women&#039;s Defense League of New Hampshire
REFRESH-INTERVAL;VALUE=DURATION:PT1H
X-Robots-Tag:noindex
X-PUBLISHED-TTL:PT1H
BEGIN:VTIMEZONE
TZID:America/New_York
BEGIN:DAYLIGHT
TZOFFSETFROM:-0500
TZOFFSETTO:-0400
TZNAME:EDT
DTSTART:20250309T070000
END:DAYLIGHT
BEGIN:STANDARD
TZOFFSETFROM:-0400
TZOFFSETTO:-0500
TZNAME:EST
DTSTART:20251102T060000
END:STANDARD
BEGIN:DAYLIGHT
TZOFFSETFROM:-0500
TZOFFSETTO:-0400
TZNAME:EDT
DTSTART:20260308T070000
END:DAYLIGHT
BEGIN:STANDARD
TZOFFSETFROM:-0400
TZOFFSETTO:-0500
TZNAME:EST
DTSTART:20261101T060000
END:STANDARD
BEGIN:DAYLIGHT
TZOFFSETFROM:-0500
TZOFFSETTO:-0400
TZNAME:EDT
DTSTART:20270314T070000
END:DAYLIGHT
BEGIN:STANDARD
TZOFFSETFROM:-0400
TZOFFSETTO:-0500
TZNAME:EST
DTSTART:20271107T060000
END:STANDARD
END:VTIMEZONE
BEGIN:VEVENT
DTSTART;TZID=America/New_York:20260314T090000
DTEND;TZID=America/New_York:20260315T140000
DTSTAMP:20260419T205636
CREATED:20260209T053736Z
LAST-MODIFIED:20260209T055531Z
UID:9577-1773478800-1773583200@wdlnh.org
SUMMARY:Rochester Gun Show
DESCRIPTION:We’ll be at the Rochester gun show on March 14th from 9AM – 4PM and then March 15th from 9AM to 2PM \n\n\n\n\n\n\n\nStop by and say Hello!!! Check out 90+ vendors!!! \n\n\n\n\n\n\n\nFreedom Promotions\, LLC has been doing a fantastic job bringing gun shows BACK to New England!!! There are a variety of vendors and selections. So much to choose from in one weekend!! The Rochester Gun Show is always a good time! \n\n\n\n\n\n\n\nFreedom Promotions has been extremely supportive of The League’s mission!! We’ve been attending as many of their gun shows as possible (we think probably all of them!) Not only do we love meeting new people\, but we love meeting members and women who want to find other women to shoot with! \n\n\n\n\n\n\n\nVisit the Rochester Gun Show and peruse the multiple vendors\, get information about organizations\, visit the League at our table\, or maybe buy something new you’ve been wanting to add to your collection!
URL:https://wdlnh.org/events/rochester-gun-show-2/
LOCATION:American Legion Post 7\, 188 Eastern Ave\, Rochester\, New Hampshire\, United States
CATEGORIES:Outreach
ATTACH;FMTTYPE=image/jpeg:https://wdlnh.org/wp-content/uploads/2026/02/Screenshot-2026-02-09-000216.jpg
END:VEVENT
END:VCALENDAR