BEGIN:VCALENDAR
VERSION:2.0
PRODID:-//Women&#039;s Defense League of New Hampshire - ECPv6.15.20//NONSGML v1.0//EN
CALSCALE:GREGORIAN
METHOD:PUBLISH
X-ORIGINAL-URL:https://wdlnh.org
X-WR-CALDESC:Events for Women&#039;s Defense League of New Hampshire
REFRESH-INTERVAL;VALUE=DURATION:PT1H
X-Robots-Tag:noindex
X-PUBLISHED-TTL:PT1H
BEGIN:VTIMEZONE
TZID:America/New_York
BEGIN:DAYLIGHT
TZOFFSETFROM:-0500
TZOFFSETTO:-0400
TZNAME:EDT
DTSTART:20230312T070000
END:DAYLIGHT
BEGIN:STANDARD
TZOFFSETFROM:-0400
TZOFFSETTO:-0500
TZNAME:EST
DTSTART:20231105T060000
END:STANDARD
BEGIN:DAYLIGHT
TZOFFSETFROM:-0500
TZOFFSETTO:-0400
TZNAME:EDT
DTSTART:20240310T070000
END:DAYLIGHT
BEGIN:STANDARD
TZOFFSETFROM:-0400
TZOFFSETTO:-0500
TZNAME:EST
DTSTART:20241103T060000
END:STANDARD
BEGIN:DAYLIGHT
TZOFFSETFROM:-0500
TZOFFSETTO:-0400
TZNAME:EDT
DTSTART:20250309T070000
END:DAYLIGHT
BEGIN:STANDARD
TZOFFSETFROM:-0400
TZOFFSETTO:-0500
TZNAME:EST
DTSTART:20251102T060000
END:STANDARD
END:VTIMEZONE
BEGIN:VTIMEZONE
TZID:UTC
BEGIN:STANDARD
TZOFFSETFROM:+0000
TZOFFSETTO:+0000
TZNAME:UTC
DTSTART:20220101T000000
END:STANDARD
END:VTIMEZONE
BEGIN:VTIMEZONE
TZID:UTC
BEGIN:STANDARD
TZOFFSETFROM:+0000
TZOFFSETTO:+0000
TZNAME:UTC
DTSTART:20150101T000000
END:STANDARD
END:VTIMEZONE
BEGIN:VEVENT
DTSTART;TZID=America/New_York:20240110T180000
DTEND;TZID=America/New_York:20240110T190000
DTSTAMP:20260419T174700
CREATED:20231219T212854Z
LAST-MODIFIED:20231219T212856Z
UID:8588-1704909600-1704913200@wdlnh.org
SUMMARY:Annual Member Meeting
DESCRIPTION:Our annual member meeting where we’ll review what went on last year as well as discuss what is upcoming for the new year! We’ll also discuss elections at the end of January as well as the 2A rally in March! \n\n\n\nAll members are welcome and encouraged to attend. We value your input ALL year round. We have continued to use Zoom as an outlet to enable more members to join in the calls and become active in The League. \n\n\n\nEmail info@wdlnh.org for the conference call information
URL:https://wdlnh.org/events/annual-member-meeting-4/
CATEGORIES:Member Only Event,Members Meeting
ATTACH;FMTTYPE=image/png:https://wdlnh.org/wp-content/uploads/2023/12/4-x-6-in-copy.png
END:VEVENT
BEGIN:VEVENT
DTSTART;TZID=UTC:20230111T180000
DTEND;TZID=UTC:20230111T190000
DTSTAMP:20260419T174700
CREATED:20230104T213536Z
LAST-MODIFIED:20230104T213536Z
UID:8353-1673460000-1673463600@wdlnh.org
SUMMARY:Annual Member Meeting
DESCRIPTION:Annual member meeting where we discuss upcoming events for the new year and review events from the past year. \nAll members are welcome and encouraged to attend!!!! Your input is important to us! \nThis will be a Zoom call meeting followed by our monthly BOD meeting. Please email info@wdlnh.org for call information.
URL:https://wdlnh.org/events/annual-member-meeting-3/
LOCATION:Conference Call
CATEGORIES:Member Only Event,Members Meeting
END:VEVENT
BEGIN:VEVENT
DTSTART;TZID=UTC:20211214T180000
DTEND;TZID=UTC:20211214T190000
DTSTAMP:20260419T174700
CREATED:20211109T044459Z
LAST-MODIFIED:20211109T050955Z
UID:7885-1639504800-1639508400@wdlnh.org
SUMMARY:Annual Member Meeting
DESCRIPTION:  \nAnnual Member meeting!!!!!!!!! \nThis is where we’ll discuss what we did last year and what we have planned for next year. \nAlso a time for members to vote on any issues that may be outstanding and update everyone on elections. \nMeeting begins at 7PM via Zoom.  If you are a member and would like to participate\, please contact info@wdlnh.org \n 
URL:https://wdlnh.org/events/annual-member-meeting-2/
LOCATION:Conference Call
CATEGORIES:Members Meeting
END:VEVENT
BEGIN:VEVENT
DTSTART;TZID=UTC:20201206T110000
DTEND;TZID=UTC:20201206T110000
DTSTAMP:20260419T174700
CREATED:20201012T160812Z
LAST-MODIFIED:20201012T162936Z
UID:7338-1607252400-1607252400@wdlnh.org
SUMMARY:Annual Holiday Party
DESCRIPTION:This is our Annual Holiday Party event for members only. It’s one of the most fun events of the year! Potluck and Yankee Swap (if interested). Rather than grabbing a number from a hat for the Yankee Swap\, members shoot at snowman targets (the snowman is pointing a firearm at you!). The points are added up on the targets and participants receive their order for the Yankee Swap. \nIt’s a fantabulous and fun event for all!!! \nAs with all events\, we’ll publish ahead of time and all participants are required to register with events@wdlnh.org in order for The League to have enough instructors and RSOs on hand. \nThe party is from 11:00 AM to 4:00 PM at Londonderry Fish & Game Club on Sunday\, December 6th! \nYou can check out photos from last year’s pahtay here: https://wdlnh.org/annual-holiday-party-2019/
URL:https://wdlnh.org/events/annual-holiday-party-4/
CATEGORIES:Members Meeting
END:VEVENT
BEGIN:VEVENT
DTSTART;TZID=UTC:20191118T180000
DTEND;TZID=UTC:20191118T200000
DTSTAMP:20260419T174700
CREATED:20190519T044151Z
LAST-MODIFIED:20191118T231631Z
UID:6579-1574100000-1574107200@wdlnh.org
SUMMARY:Annual Member Meeting - Elections! - CANCELLED DUE TO WEATHER
DESCRIPTION:ALERT: We’ve decided to CANCEL tonight’s BOD and Annual Meeting due to NOT really knowing WHAT the weather is going to do for sure. \nWe will re-schedule the BOD meeting for a conference call and let you know when that will be ahead of time. \nThe Annual Meeting will now take place for the first hour (or less) of the Annual Holiday Party – so if you only want the meeting – you show up for an hour and leave or if you only want the party – you show up at 2PM instead of one! Or you can enjoy both without adding another day on the calendar! \n\nDETAILS will follow but please stay safe out there!!!!!!!!!!! \n\n\n\n\n\n\n\n\n\n \n\n\n\n\n\n\n\n\n  \n  \n \nJoin us for our Annual Members Meeting where we update members on what is going on in The League over the past year along with what we’ll be working on in the upcoming year. \nNovember is also our annual ELECTIONS!!!!! \nIn order to vote in elections\, you must be a full member in good standing and have attended at least 3 events (of any sort) over the past year! \nWe’ll be holding our Annual Meeting at our Office in Concord. We’ll provide some platters and would love if people brought some potluck (because you all bring THE best potluck!). \n\nWe’re holding our meeting at our office in order for everyone to finally get a glimpse of it – almost like an Open House! \n\nFor those interested\, the Board Meeting will start at 5pm and all members are welcome to attend.
URL:https://wdlnh.org/events/annual-member-meeting-elections/
LOCATION:Office in Concord\, 90 Airport Road\, Concord\, New Hampshire
CATEGORIES:Members Meeting
END:VEVENT
BEGIN:VEVENT
DTSTART;TZID=UTC:20190819T180000
DTEND;TZID=UTC:20190819T200000
DTSTAMP:20260419T174700
CREATED:20190414T070833Z
LAST-MODIFIED:20190414T070833Z
UID:6433-1566237600-1566244800@wdlnh.org
SUMMARY:Quarterly Members' Meeting - MEMBERS ONLY
DESCRIPTION:  \n \nJoin us for our Quarterly Members Meeting. This is where members vote on any necessary actions taken by the Board; where we discuss and highlight everything that we’re working on and preparations for upcoming events! \nOur Members’ Voices matter!!!!!! \nWe’ll be at Murphy’s Taproom on Elm Street in Manchester in the backroom!
URL:https://wdlnh.org/events/quarterly-members-meeting-members/
LOCATION:Murphy’s Taproom\, 494 Elm St\, Manchester\, NH\, 03104
CATEGORIES:Members Meeting
END:VEVENT
BEGIN:VEVENT
DTSTART;TZID=UTC:20190520T180000
DTEND;TZID=UTC:20190520T200000
DTSTAMP:20260419T174700
CREATED:20190404T035028Z
LAST-MODIFIED:20190404T035028Z
UID:6266-1558375200-1558382400@wdlnh.org
SUMMARY:Quarterly Member Meeting
DESCRIPTION:Our quarterly member meeting! We’ll discuss everything that’s been going on and everything we’re planning for the future\, including upcoming events! You’re input is NEEDED!!! \nWe’ll be holding all quarterly member meetings at Murphy’s Taproom in the backroom on Elm Street in Manchester! Yes\, appetizers will once again be served!!! \nWe look forward to seeing you there!
URL:https://wdlnh.org/events/quarterly-member-meeting/
LOCATION:Murphy’s Taproom\, 494 Elm St\, Manchester\, NH\, 03104
CATEGORIES:Members Meeting
END:VEVENT
BEGIN:VEVENT
DTSTART;TZID=UTC:20190218T180000
DTEND;TZID=UTC:20190218T200000
DTSTAMP:20260419T174700
CREATED:20190205T192156Z
LAST-MODIFIED:20190212T035354Z
UID:5832-1550512800-1550520000@wdlnh.org
SUMMARY:Quarterly Members Meeting
DESCRIPTION:Join us for our Quarterly Members Meeting. This is where members vote on any necessary actions taken by the Board; where we discuss and highlight everything that we’re working on and preparations for upcoming events! \nOur Members’ Voices matter!!!!!! \nWe’ll be at Murphy’s Taproom on Elm Street in Manchester in the backroom!
URL:https://wdlnh.org/events/quarterly-members-meeting-6/
LOCATION:Murphy’s Taproom\, 494 Elm St\, Manchester\, NH\, 03104
CATEGORIES:Members Meeting
END:VEVENT
BEGIN:VEVENT
DTSTART;TZID=UTC:20180820T180000
DTEND;TZID=UTC:20180820T200000
DTSTAMP:20260419T174700
CREATED:20180108T045635Z
LAST-MODIFIED:20180108T045635Z
UID:4920-1534788000-1534795200@wdlnh.org
SUMMARY:Quarterly Members Meeting
DESCRIPTION:Join us for our Quarterly Members Meeting where we update members on what is going on in The League along with a potluck dinner and Shoot with the Girls!!! \nWe’ll post the agenda as the event gets closer. \nAs with all shooting events\, you’ll need to register with events@wdlnh.org so we know how many instructors and RSOs to have available. As the meeting gets closer\, we’ll send out updates! \nFor those interested\, the Board Meeting will start at 5pm and all members are welcome to attend.
URL:https://wdlnh.org/events/quarterly-members-meeting-5/
LOCATION:Wilson Hill Pistol Club\, 72 Lakeshore Road\, Manchester
CATEGORIES:Members Meeting
END:VEVENT
BEGIN:VEVENT
DTSTART;TZID=UTC:20180521T180000
DTEND;TZID=UTC:20180521T200000
DTSTAMP:20260419T174700
CREATED:20180108T045247Z
LAST-MODIFIED:20180108T045512Z
UID:4918-1526925600-1526932800@wdlnh.org
SUMMARY:Quarterly Members Meeting
DESCRIPTION:Join us for our Quarterly Members Meeting where we update members on what is going on in The League along with a potluck dinner and Shoot with the Girls!!! \nWe’ll post the agenda as the event gets closer. \nAs with all shooting events\, you’ll need to register with events@wdlnh.org so we know how many instructors and RSOs to have available. As the meeting gets closer\, we’ll send out updates! \nFor those interested\, the Board Meeting will start at 5pm and all members are welcome to attend.
URL:https://wdlnh.org/events/quarterly-members-meeting-4/
LOCATION:Wilson Hill Pistol Club\, 72 Lakeshore Road\, Manchester
CATEGORIES:Members Meeting
END:VEVENT
BEGIN:VEVENT
DTSTART;TZID=UTC:20180219T180000
DTEND;TZID=UTC:20180219T200000
DTSTAMP:20260419T174700
CREATED:20171128T070609Z
LAST-MODIFIED:20171128T070639Z
UID:4666-1519063200-1519070400@wdlnh.org
SUMMARY:Quarterly Members Meeting
DESCRIPTION:Join us for our Quarterly Members Meeting where we update members on what is going on in The League along with a potluck dinner and Shoot with the Girls!!! \nWe’ll post the agenda as the event gets closer. \nAs with all shooting events\, you’ll need to register with events@wdlnh.org so we know how many instructors and RSOs to have available. As the meeting gets closer\, we’ll send out updates! \nFor those interested\, the Board Meeting will start at 5pm and all members are welcome to attend.
URL:https://wdlnh.org/events/quarterly-members-meeting-3/
LOCATION:Wilson Hill Pistol Club\, 72 Lakeshore Road\, Manchester
CATEGORIES:Members Meeting
END:VEVENT
BEGIN:VEVENT
DTSTART;TZID=UTC:20171120T180000
DTEND;TZID=UTC:20171120T200000
DTSTAMP:20260419T174700
CREATED:20161130T013025Z
LAST-MODIFIED:20171002T015623Z
UID:3776-1511200800-1511208000@wdlnh.org
SUMMARY:Quarterly Members Meeting
DESCRIPTION:Join us for our Quarterly Members Meeting where we update members on what is going on in The League along with a potluck dinner and Shoot with the Girls!!! \nWe’ll post the agenda as the event gets closer. \nAs with all shooting events\, you’ll need to register with events@wdlnh.org so we know how many instructors and RSOs to have available. As the meeting gets closer\, we’ll send out updates! \nFor those interested\, the Board Meeting will start at 5pm and all members are welcome to attend. \nWe will also be holding our annual ELECTION at this meeting!!!! You must be a member in good standing who has attended at least 3 events in 2017 in order to cast a vote.
URL:https://wdlnh.org/events/quarterly-members-meeting-2/
LOCATION:Wilson Hill Pistol Club\, 72 Lakeshore Road\, Manchester
CATEGORIES:Member Only Event,Members Meeting,Shoot
END:VEVENT
BEGIN:VEVENT
DTSTART;TZID=UTC:20170821T180000
DTEND;TZID=UTC:20170821T200000
DTSTAMP:20260419T174700
CREATED:20161130T012857Z
LAST-MODIFIED:20161130T012857Z
UID:3775-1503338400-1503345600@wdlnh.org
SUMMARY:Quarterly Members Meeting
DESCRIPTION:Join us for our Quarterly Members Meeting where we update members on what is going on in The League along with a potluck dinner and Shoot with the Girls!!! \nWe’ll post the agenda as the event gets closer. \nAs with all shooting events\, you’ll need to register with events@wdlnh.org so we know how many instructors and RSOs to have available. As the meeting gets closer\, we’ll send out updates! \nFor those interested\, the Board Meeting will start at 5pm and all members are welcome to attend.
URL:https://wdlnh.org/events/quarterly-members-meeting/
LOCATION:Wilson Hill Pistol Club\, 72 Lakeshore Road\, Manchester
CATEGORIES:Member Only Event,Members Meeting,Shoot
END:VEVENT
BEGIN:VEVENT
DTSTART;TZID=UTC:20170515T180000
DTEND;TZID=UTC:20170515T200000
DTSTAMP:20260419T174700
CREATED:20161130T012739Z
LAST-MODIFIED:20161130T012739Z
UID:3774-1494871200-1494878400@wdlnh.org
SUMMARY:Quarterly Members Meeting
DESCRIPTION:Join us for our Quarterly Members Meeting where we update members on what is going on in The League along with a potluck dinner and Shoot with the Girls!!! \nWe’ll post the agenda as the event gets closer. \nAs with all shooting events\, you’ll need to register with events@wdlnh.org so we know how many instructors and RSOs to have available. As the meeting gets closer\, we’ll send out updates! \nFor those interested\, the Board Meeting will start at 5pm and all members are welcome to attend.
URL:https://wdlnh.org/events/quarterly/
LOCATION:Wilson Hill Pistol Club\, 72 Lakeshore Road\, Manchester
CATEGORIES:Member Only Event,Members Meeting,Shoot
END:VEVENT
BEGIN:VEVENT
DTSTART;TZID=UTC:20170220T180000
DTEND;TZID=UTC:20170220T200000
DTSTAMP:20260419T174700
CREATED:20161130T012609Z
LAST-MODIFIED:20161130T012609Z
UID:3772-1487613600-1487620800@wdlnh.org
SUMMARY:Quarterly Members Meeting and Shoot!
DESCRIPTION:Join us for our Quarterly Members Meeting where we update members on what is going on in The League along with a potluck dinner and Shoot with the Girls!!! \nWe’ll post the agenda as the event gets closer. \nAs with all shooting events\, you’ll need to register with events@wdlnh.org so we know how many instructors and RSOs to have available. As the meeting gets closer\, we’ll send out updates! \nFor those interested\, the Board Meeting will start at 5pm and all members are welcome to attend.
URL:https://wdlnh.org/events/quarterly-members-meeting-shoot/
LOCATION:Wilson Hill Pistol Club\, 72 Lakeshore Road\, Manchester
CATEGORIES:Member Only Event,Members Meeting,Shoot
END:VEVENT
BEGIN:VEVENT
DTSTART;TZID=UTC:20161121T180000
DTEND;TZID=UTC:20161121T200000
DTSTAMP:20260419T174700
CREATED:20161112T071102Z
LAST-MODIFIED:20161112T071339Z
UID:3676-1479751200-1479758400@wdlnh.org
SUMMARY:Quarterly Members Meeting - Potluck and Shoot!
DESCRIPTION:Join us at 6pm for our community meal and meeting time\, followed by some 2A fun. Please bring some kind of yummy\, and your own firearm\, ammo\, and gear if you plan to shoot. \nPlease RSVP to info@wdlnh.org so we can have sufficient range support. We’ll post the agenda as the event gets closer. \nFor those interested\, the Board Meeting will start at 5pm and all members are welcome to attend.
URL:https://wdlnh.org/events/quarterly-members-meeting-potluck-shoot/
LOCATION:Wilson Hill Pistol Club\, 72 Lakeshore Road\, Manchester
CATEGORIES:Member Only Event,Members Meeting,Shoot
END:VEVENT
BEGIN:VEVENT
DTSTART;TZID=UTC:20161017T180000
DTEND;TZID=UTC:20161017T200000
DTSTAMP:20260419T174700
CREATED:20160408T084612Z
LAST-MODIFIED:20160922T015010Z
UID:3363-1476727200-1476734400@wdlnh.org
SUMMARY:Annual Members Meeting and Elections!!!
DESCRIPTION:League elections will be held on October 17th at our annual meeting!!! In order to vote in elections you must have attended at least 3 member meetings during the year (October through September) per our bylaws. If you are interested in running for a seat on the board\, please let us know.  All board seats are up for re-election with the exception of one Director at Large seat. In order to run\, there is no previous attendance requirement. \nWe have Chairwoman\, President\, Vice President\, Secretary\, Treasurer and the 2 year Director-at-Large seat.  We have open seats without anyone running yet for Vice President and Secretary. \nIf you are interested in running for any position\, please let Eva know by emailing here here WDLNHElection@gmail.com!
URL:https://wdlnh.org/events/members-meeting-7/
LOCATION:Wilson Hill Pistol Club\, 72 Lakeshore Road\, Manchester
CATEGORIES:Members Meeting
END:VEVENT
BEGIN:VEVENT
DTSTART;TZID=UTC:20160919T190000
DTEND;TZID=UTC:20160919T200000
DTSTAMP:20260419T174700
CREATED:20160408T065538Z
LAST-MODIFIED:20160408T065538Z
UID:3353-1474311600-1474315200@wdlnh.org
SUMMARY:Members Meeting
DESCRIPTION:We encourage all members to attend the monthly Members Meeting! Meet other members and have a say in YOUR organization!!
URL:https://wdlnh.org/events/members-meeting-6/
LOCATION:Wilson Hill Pistol Club\, 72 Lakeshore Road\, Manchester
CATEGORIES:Members Meeting
ATTACH;FMTTYPE=image/jpeg:https://wdlnh.org/wp-content/uploads/2015/07/i18npic.500x333.IMG_5513-Small.jpg
END:VEVENT
BEGIN:VEVENT
DTSTART;TZID=UTC:20160815T190000
DTEND;TZID=UTC:20160815T200000
DTSTAMP:20260419T174700
CREATED:20160408T063926Z
LAST-MODIFIED:20160408T063926Z
UID:3350-1471287600-1471291200@wdlnh.org
SUMMARY:Members Meeting
DESCRIPTION:
URL:https://wdlnh.org/events/members-meeting-5/
LOCATION:Wilson Hill Pistol Club\, 72 Lakeshore Road\, Manchester
CATEGORIES:Members Meeting
END:VEVENT
BEGIN:VEVENT
DTSTART;TZID=UTC:20160718T190000
DTEND;TZID=UTC:20160718T200000
DTSTAMP:20260419T174700
CREATED:20160408T063531Z
LAST-MODIFIED:20160408T063531Z
UID:3347-1468868400-1468872000@wdlnh.org
SUMMARY:Members Meeting
DESCRIPTION:We encourage all members to attend the monthly Members Meeting! Meet other members and have a say in YOUR organization!!
URL:https://wdlnh.org/events/members-meeting-4/
LOCATION:Wilson Hill Pistol Club\, 72 Lakeshore Road\, Manchester
CATEGORIES:Members Meeting
ATTACH;FMTTYPE=image/jpeg:https://wdlnh.org/wp-content/uploads/2015/07/i18npic.500x333.IMG_5513-Small.jpg
END:VEVENT
BEGIN:VEVENT
DTSTART;TZID=UTC:20160620T190000
DTEND;TZID=UTC:20160620T200000
DTSTAMP:20260419T174700
CREATED:20160408T062443Z
LAST-MODIFIED:20160408T062443Z
UID:3344-1466449200-1466452800@wdlnh.org
SUMMARY:Members Meeting
DESCRIPTION:This is all about YOU! Meet other members; Vote on important BOD issues; Come with ideas and motivations!!! Or just to listen and chat with your League Sisters!
URL:https://wdlnh.org/events/members-meeting-3/
LOCATION:Wilson Hill Pistol Club\, 72 Lakeshore Road\, Manchester
CATEGORIES:Members Meeting
ATTACH;FMTTYPE=image/jpeg:https://wdlnh.org/wp-content/uploads/2015/07/i18npic.160x120.IMG_5588-Small.jpg
END:VEVENT
BEGIN:VEVENT
DTSTART;TZID=UTC:20160516T190000
DTEND;TZID=UTC:20160516T200000
DTSTAMP:20260419T174700
CREATED:20160408T060903Z
LAST-MODIFIED:20160408T062027Z
UID:3340-1463425200-1463428800@wdlnh.org
SUMMARY:Members Meeting
DESCRIPTION:We encourage all members to attend the monthly Members Meeting! Meet other members and have a say in YOUR organization!!
URL:https://wdlnh.org/events/members-meeting-2/
LOCATION:Wilson Hill Pistol Club\, 72 Lakeshore Road\, Manchester
CATEGORIES:Members Meeting
ATTACH;FMTTYPE=image/jpeg:https://wdlnh.org/wp-content/uploads/2015/07/i18npic.640x0.IMG_5414-Small.jpg
END:VEVENT
BEGIN:VEVENT
DTSTART;TZID=UTC:20160418T190000
DTEND;TZID=UTC:20160418T200000
DTSTAMP:20260419T174700
CREATED:20160408T054322Z
LAST-MODIFIED:20160408T055838Z
UID:3336-1461006000-1461009600@wdlnh.org
SUMMARY:Members Meeting
DESCRIPTION:We encourage all members to attend the monthly Members Meeting! Meet other members and have a say in YOUR organization!!
URL:https://wdlnh.org/events/members-meeting/
LOCATION:Wilson Hill Pistol Club\, 72 Lakeshore Road\, Manchester
CATEGORIES:Members Meeting
ATTACH;FMTTYPE=image/jpeg:https://wdlnh.org/wp-content/uploads/2015/07/i18npic.500x333.IMG_5513-Small.jpg
END:VEVENT
END:VCALENDAR