BEGIN:VCALENDAR
VERSION:2.0
PRODID:-//Women&#039;s Defense League of New Hampshire - ECPv6.15.20//NONSGML v1.0//EN
CALSCALE:GREGORIAN
METHOD:PUBLISH
X-ORIGINAL-URL:https://wdlnh.org
X-WR-CALDESC:Events for Women&#039;s Defense League of New Hampshire
REFRESH-INTERVAL;VALUE=DURATION:PT1H
X-Robots-Tag:noindex
X-PUBLISHED-TTL:PT1H
BEGIN:VTIMEZONE
TZID:UTC
BEGIN:STANDARD
TZOFFSETFROM:+0000
TZOFFSETTO:+0000
TZNAME:UTC
DTSTART:20180101T000000
END:STANDARD
END:VTIMEZONE
BEGIN:VEVENT
DTSTART;TZID=UTC:20190430T090000
DTEND;TZID=UTC:20190430T130000
DTSTAMP:20260419T230456
CREATED:20190428T034605Z
LAST-MODIFIED:20190428T035138Z
UID:6472-1556614800-1556629200@wdlnh.org
SUMMARY:Gun Control Hearings - NH Senate
DESCRIPTION:The destructive and draconian gun control bills that were passed in the House are going to be heard in the Senate!!!! \nWhen: Tuesday –  April 30th\nWhere: State House – Room 100\nSenate Judiciary Committee \n\nShow up at the hearings. You do not have to testify. You can sign in against these draconian gun control measures and show the senate that\, as always\, Granite Staters refuse to kowtow to out-of-state organizations seeking to harm their protected fundamental human right to self defense. \n9:00 AM – HB 109\, requiring background checks for private firearms sales AND transfers. This legislation will actually make it impossible for women to get gun safety training! This legislation will turn law-abiding citizens into criminals all while criminals continue to completely ignore existing laws! It’s the same exact California gun control legislation they have tried to pass 3 previous times. \nIt also creates a “register of each sale” (gun registry) which is expressly prohibited by federal law. For the record\, commercial firearm sales are already covered in existing statute. \n10:00 AM – HB 514\, imposing a waiting period between the purchase and delivery of a firearm! They want to make women LESS SAFE by forcing a 7 (really up to 11) day waiting period between the time of purchase of a firearm and the time of pickup of said firearm or ammunition!! Law Enforcement has no duty to protect us; we must be our own first responders. This bill inhibits women’s right to self defense. \nThis will effectively END all gun shows in New Hampshire (hurting small business) and once again\, harm all law-abiding citizens! \n11:00 AM – HB 564\, banning law-abiding citizens from carrying concealed firearms in a ‘safe school zone.’ Currently\, those who have pistol/revolver licenses are allowed\, per federal law\, to carry concealed on school grounds. CRIMINALS have never obeyed ‘gun free zone’ laws\, which is why schools are often targets. This law will further enable criminals to more easily prey on our children. \nThis legislation also VICTIMIZES those who are victims and MUST protect themselves in their daily lives\, especially women. \n\nNew Hampshire children and citizens deserve better than to be criminalized or turned into easy targets by criminals. \n\nAnd of course\, as with all gun control\, this legislation CRIMINALIZES law-abiding Granite Staters. \nIt is a fact that 98% of mass public shootings occur in gun free zones\, why would anyone want to increase those odds in New Hampshire? \nSenate Judiciary Committee: \nSharon Carson (R)\nSharon.Carson@leg.state.nh.us\n271.3091 \nShannon Chandley (D)\nShannon.Chandley@leg.state.nh.us\n271.4151 \nHarold French (R)\nHarold.French@leg.state.nh.us\n271.4063 \nMarth Hennessey (Chair) (D)\nMartha.Hennessey@leg.state.nh.us\n271.3042 \nMelanie Levesque (D)\nMelanie.Levesque@leg.state.nh.us\n271.4151 \nYou can also copy and paste all of them at once in an email:\nSharon.Carson@leg.state.nh.us\nShannon.Chandley@leg.state.nh.us\nHarold.French@leg.state.nh.us\nMartha.Hennessey@leg.state.nh.us\nMelanie.Levesque@leg.state.nh.us \nMichael Bloomberg is spending a lot of $$$ to push all of this gun control in New Hampshire. It will take an army of Granite Staters to FIGHT BACK! \n\nThe State House is located at 107 N Main Street in Concord. There is limited on-street parking\, and a near-by parking garage.  https://www.concordnh.gov/844/Downtown-Parking?fbclid=IwAR08aqTGUXTvV1jUo0NrA_WI-zIKJvin0vnuEJEey3522bS4SpiScrQVOH4 \nDriving directions are available here.  https://www.gencourt.state.nh.us/nh_visitorcenter/directions.htm \nIf you have any questions or need any information\, please contact info@wdlnh.org.
URL:https://wdlnh.org/events/gun-control-hearings-nh-senate/
LOCATION:State House\, 25 Capitol St\, Concord\, NH\, United States
CATEGORIES:Legislation
ATTACH;FMTTYPE=image/jpeg:https://wdlnh.org/wp-content/uploads/2019/02/180302-red-alert-800x500-1.jpg
END:VEVENT
BEGIN:VEVENT
DTSTART;TZID=UTC:20190305T100000
DTEND;TZID=UTC:20190305T130000
DTSTAMP:20260419T230456
CREATED:20190205T201814Z
LAST-MODIFIED:20190303T215530Z
UID:5841-1551780000-1551790800@wdlnh.org
SUMMARY:RED FLAG HEARING
DESCRIPTION:Representatives Hall at the State House beginning at 10AM \nHB687-FN is the ‘Red Flag’ bill we’ve been warning you about. This legislation isn’t about protection\, it’s about gun confiscation without DUE PROCESS. \nThis legislation violates more rights on one piece of paper than legislators have attempted before. It’s written by out-of-state gun control organizations and does nothing to help ANYONE but will ABSOLUTELY HURT law-abiding Granite Staters. \nThis is\, by far\, the most draconian gun control legislation the New Hampshire legislature is pushing this session. \nYour voices and opposition to this bill MUST. BE. HEARD. \n 
URL:https://wdlnh.org/events/red-flag-hearing/
LOCATION:State House\, 25 Capitol St\, Concord\, NH\, United States
CATEGORIES:Legislation
END:VEVENT
BEGIN:VEVENT
DTSTART;TZID=UTC:20190213T123000
DTEND;TZID=UTC:20190213T170000
DTSTAMP:20260419T230456
CREATED:20190204T053958Z
LAST-MODIFIED:20190204T053958Z
UID:5824-1550061000-1550077200@wdlnh.org
SUMMARY:Gun Control Hearings - Concord
DESCRIPTION:1:00 PM – HB 109-FN\, requiring background checks for commercial firearms sales. This legislation will actually make it impossible for women to get gun safety training! This legislation will turn law-abiding citizens into criminals all while criminals continue to completely ignore existing laws! It’s the same exact California gun control legislation they have tried to pass 3 previous times. \n2:30 PM – HB 514-FN\, imposing a waiting period between the purchase and delivery of a firearm AND ammunition!!! They want to make women LESS SAFE by forcing a 7 day waiting period between the time of purchase of a firearm and the time of pickup of said firearm or ammunition!!
URL:https://wdlnh.org/events/gun-control-hearings-concord/
LOCATION:Legislative Office Building\, 33 N State St\, Concord\, NH\, 03302\, United States
CATEGORIES:Legislation
ORGANIZER;CN="":MAILTO:joinwdlnh@gmail.com
END:VEVENT
END:VCALENDAR