BEGIN:VCALENDAR
VERSION:2.0
PRODID:-//Women&#039;s Defense League of New Hampshire - ECPv6.15.20//NONSGML v1.0//EN
CALSCALE:GREGORIAN
METHOD:PUBLISH
X-WR-CALNAME:Women&#039;s Defense League of New Hampshire
X-ORIGINAL-URL:https://wdlnh.org
X-WR-CALDESC:Events for Women&#039;s Defense League of New Hampshire
REFRESH-INTERVAL;VALUE=DURATION:PT1H
X-Robots-Tag:noindex
X-PUBLISHED-TTL:PT1H
BEGIN:VTIMEZONE
TZID:UTC
BEGIN:STANDARD
TZOFFSETFROM:+0000
TZOFFSETTO:+0000
TZNAME:UTC
DTSTART:20160101T000000
END:STANDARD
END:VTIMEZONE
BEGIN:VEVENT
DTSTART;TZID=UTC:20180414T080000
DTEND;TZID=UTC:20180414T170000
DTSTAMP:20260419T185934
CREATED:20180213T034919Z
LAST-MODIFIED:20180313T193026Z
UID:5080-1523692800-1523725200@wdlnh.org
SUMMARY:Basic Pistol Class - Women only Class with Women only Instructors
DESCRIPTION:**THIS CLASS IS FULL** \nAs part of our ongoing commitment to bring firearms education to Granite State women\, the Women’s Defense League of NH is pleased to announce that we are now offering ladies-only NRA Basic Pistol Classes! We are the only organization in the state that offers women-only classes entirely taught by women instructors and range support. \nOur upcoming class is on Saturday\, April 14th from 8:00am (starting promptly at 8:30am) to 5:00pm. It will be held at Londonderry Fish & Game at 5 Lund Street in Litchfield. Drive through the gates around to the metal building on the left. \nThe NRA Basic Pistol Course is intended for all individuals regardless of previous shooting experience or NRA affiliation. This course is a minimum of 8 hours and includes classroom instruction and range time learning to shoot revolvers and semi-automatic pistols. This is an instructor-led program and is not a blended training course. \nStudents learn NRA’s rules for safe gun handling; pistol parts and operation; ammunition; shooting fundamentals; range rules; shooting from a bench rest position and two-handed standing positions; cleaning the pistol; pistol selection and storage; and continued opportunities for skill development. Students will also complete live-fire training and a nationally standardized shooting qualification while on the range. A NRA Certificate will be issued upon satisfactory completion of this course. \nAll participants must prepay to reserve their seat. The fee for non-members is $85 and for League members it is $60. Go to this link below to pay prior to class day. Space is limited to 24 participants and spots will only be held for people who pre-pay. NOTE: These classes fill up extremely fast\, spots are reserved on a first-come\, first-serve basis!! \nhttps://wdlnh.org/services/basic-pistol-registration/ \nAll participants are also expected to complete a liability waiver prior to participation which will be made available at the event. \nParticipants should bring their own eye and ear protection (we have some available as well). Also bring beverages\, lunch and any snacks. Although the classroom instruction will take place in a heated space\, the range is outdoors so participants should dress accordingly. Please wear appropriate attire — closed-toe shoes and full-coverage shirts as hot brass can be very uncomfortable and present a safety hazard when it hits bare skin. A brimmed hat such as a baseball hat is recommended\, but not required. \nThe Women’s Defense League will supply the firearms\, ammunition\, targets\, and student packets. \nIf you have any questions\, please email us at info@wdlnh.org. \n*Refund/Cancellation Policy* If the League must cancel an event due to weather or other issues\, we will gladly issue a refund if you cannot make the re-scheduled class. Any cancellation by participants are not eligible for refunds.
URL:https://wdlnh.org/events/basic-pistol-class-women-only-class-with-women-only-instructors/
LOCATION:Londonderry Fish & Game Club\, 5 Lund St\, Litchfield \, NH\, 03052\, United States
CATEGORIES:Education,Shoot
END:VEVENT
BEGIN:VEVENT
DTSTART;TZID=UTC:20180217T100000
DTEND;TZID=UTC:20180217T130000
DTSTAMP:20260419T185934
CREATED:20180130T065706Z
LAST-MODIFIED:20180130T071945Z
UID:5013-1518861600-1518872400@wdlnh.org
SUMMARY:Gun Law Seminar
DESCRIPTION:We would like to welcome the U.S. LawShield and the Women’s Defense League of NH for a day of learning all you need to know for responsible gun ownership.\n \nPlease register at:  https://texaslawshield.secure.force.com/pmtx/evt__QuickEvent?id=a2z5A00000VKkkN \nThis event is FREE for members and only $10 for non-members. \nOur event will feature experienced attorneys\, law enforcement\, and other firearms professionals that cover a wide-range of topics such as the Castle Doctrine\, the justified use of deadly force\, where you can legally carry\, what to expect when law enforcement arrives\, and much more. \nEvery event has dedicated question and answer segments to ensure all attendees are able to get the information they want to know from a credible source they can trust. \nAttorney Even Nappen will be discussing New Hampshire Firearms Laws.
URL:https://wdlnh.org/events/gun-law-seminar/
LOCATION:Bass Pro Shops\, 2 Commerce Dr\, Hooksett\, NH\, United States
CATEGORIES:Education
END:VEVENT
BEGIN:VEVENT
DTSTART;TZID=UTC:20171202T080000
DTEND;TZID=UTC:20171202T170000
DTSTAMP:20260419T185934
CREATED:20171012T054915Z
LAST-MODIFIED:20171109T234404Z
UID:4552-1512201600-1512234000@wdlnh.org
SUMMARY:Basic Pistol Class – Women Only Class with Women Instructors
DESCRIPTION:***THIS CLASS IS FULL*** \nAs part of our ongoing commitment to bring firearms education to Granite State women\, the Women’s Defense League of NH is pleased to announce that we are now offering ladies-only NRA Basic Pistol Classes! We are the only organization in the state that offers women-only classes entirely taught by women instructors and range support. \nOur upcoming class is on Saturday\, December 2nd from 8:00am (starting promptly at 8:30am) to 5:00pm. It will be held at Londonderry Fish & Game at 5 Lund Street in Litchfield. Drive through the gates around to the metal building on the left. \nThe NRA Basic Pistol Course is intended for all individuals regardless of previous shooting experience or NRA affiliation. This course is a minimum of 8 hours and includes classroom instruction and range time learning to shoot revolvers and semi-automatic pistols. This is an instructor-led program and is not a blended training course. \nStudents learn NRA’s rules for safe gun handling; pistol parts and operation; ammunition; shooting fundamentals; range rules; shooting from a bench rest position and two-handed standing positions; cleaning the pistol; pistol selection and storage; and continued opportunities for skill development. Students will also complete live-fire training and a nationally standardized shooting qualification while on the range. A NRA Certificate will be issued upon satisfactory completion of this course. \nAll participants must prepay to reserve their seat. The fee for non-members is $85 and for League members it is $60. Go to this link to pay prior to class day. Space is limited to 24 participants and spots will only be held for people who pre-pay. \n\nhttps://wdlnh.org/services/basic-pistol-registration/ \nAll participants are also expected to complete a liability waiver prior to participation which will be made available at the event. \nParticipants should bring their own eye and ear protection\, as well as a beverage\, lunch and any snacks. Although the classroom instruction will take place in a heated space\, the range is outdoors so participants should dress accordingly. Please wear appropriate attire — closed-toe shoes and full-coverage shirts as hot brass can be very uncomfortable and present a safety hazard when it hits bare skin. A brimmed hat such as a baseball hat is recommended\, but not required. \nThe Women’s Defense League will supply the firearms\, ammunition\, targets\, and student packets. \nIf you have any questions\, please email us at info@wdlnh.org. \n*Refund/Cancellation Policy* If the League must cancel an event due to weather or other issues\, we will gladly issue a refund if you cannot make the re-scheduled class. Any cancellation by participants are not eligible for refunds.
URL:https://wdlnh.org/events/basic-pistol-class-women-only-class-with-women-instructors-2/
LOCATION:Londonderry Fish & Game Club\, 5 Lund St\, Litchfield \, NH\, 03052\, United States
CATEGORIES:Education
END:VEVENT
BEGIN:VEVENT
DTSTART;TZID=UTC:20171104T080000
DTEND;TZID=UTC:20171104T170000
DTSTAMP:20260419T185934
CREATED:20171001T222934Z
LAST-MODIFIED:20171005T033437Z
UID:4522-1509782400-1509814800@wdlnh.org
SUMMARY:Basic Pistol Class - Women Only Class with Women Instructors
DESCRIPTION:**THIS CLASS IS FULL**\nIf you are interested in taking this class\, we may be holding another before year’s end. Email us at info@wdlnh.org \n  \nAs part of our ongoing commitment to bring firearms education to Granite State women\, the Women’s Defense League of NH is pleased to announce that we are now offering ladies-only NRA Basic Pistol Classes! We are the only organization in the state that offers women-only classes entirely taught by women instructors and range support. \nOur upcoming class is on Saturday\, November 4th from 8:00am (starting promptly at 8:30am) to 5:00pm. It will be held at Londonderry Fish & Game at 5 Lund Street in Litchfield. Drive through the gates around to the metal building on the left. \nThe NRA Basic Pistol Course is intended for all individuals regardless of previous shooting experience or NRA affiliation. This course is a minimum of 8 hours and includes classroom instruction and range time learning to shoot revolvers and semi-automatic pistols. This is an instructor-led program and is not a blended training course. \nStudents learn NRA’s rules for safe gun handling; pistol parts and operation; ammunition; shooting fundamentals; range rules; shooting from a bench rest position and two-handed standing positions; cleaning the pistol; pistol selection and storage; and continued opportunities for skill development. Students will also complete live-fire training and a nationally standardized shooting qualification while on the range. A NRA Certificate will be issued upon satisfactory completion of this course. \nAll participants must prepay to reserve their seat. The fee for non-members is $85 and for League members it is $60. Go to this link to pay prior to class day. Space is limited to 24 participants and spots will only be held for people who pre-pay. \n\nhttps://wdlnh.org/services/basic-pistol-registration/ \nAll participants are also expected to complete a liability waiver prior to participation which will be made available at the event. \nParticipants should bring their own eye and ear protection\, as well as a beverage\, lunch and any snacks. Although the classroom instruction will take place in a heated space\, the range is outdoors so participants should dress accordingly. Please wear appropriate attire — closed-toe shoes and full-coverage shirts as hot brass can be very uncomfortable and present a safety hazard when it hits bare skin. A brimmed hat such as a baseball hat is recommended\, but not required. \nThe Women’s Defense League will supply the firearms\, ammunition\, targets\, and student packets. \nIf you have any questions\, please email us at info@wdlnh.org. \n*Refund/Cancellation Policy* If the League must cancel an event due to weather or other issues\, we will gladly issue a refund if you cannot make the re-scheduled class. Any cancellation by participants are not eligible for refunds.
URL:https://wdlnh.org/events/basic-pistol-class-women-only-class-with-women-instructors/
LOCATION:Londonderry Fish & Game Club\, 5 Lund St\, Litchfield \, NH\, 03052\, United States
CATEGORIES:Education
END:VEVENT
END:VCALENDAR