BEGIN:VCALENDAR
VERSION:2.0
PRODID:-//Women&#039;s Defense League of New Hampshire - ECPv6.15.20//NONSGML v1.0//EN
CALSCALE:GREGORIAN
METHOD:PUBLISH
X-ORIGINAL-URL:https://wdlnh.org
X-WR-CALDESC:Events for Women&#039;s Defense League of New Hampshire
REFRESH-INTERVAL;VALUE=DURATION:PT1H
X-Robots-Tag:noindex
X-PUBLISHED-TTL:PT1H
BEGIN:VTIMEZONE
TZID:America/New_York
BEGIN:DAYLIGHT
TZOFFSETFROM:-0500
TZOFFSETTO:-0400
TZNAME:EDT
DTSTART:20230312T070000
END:DAYLIGHT
BEGIN:STANDARD
TZOFFSETFROM:-0400
TZOFFSETTO:-0500
TZNAME:EST
DTSTART:20231105T060000
END:STANDARD
BEGIN:DAYLIGHT
TZOFFSETFROM:-0500
TZOFFSETTO:-0400
TZNAME:EDT
DTSTART:20240310T070000
END:DAYLIGHT
BEGIN:STANDARD
TZOFFSETFROM:-0400
TZOFFSETTO:-0500
TZNAME:EST
DTSTART:20241103T060000
END:STANDARD
BEGIN:DAYLIGHT
TZOFFSETFROM:-0500
TZOFFSETTO:-0400
TZNAME:EDT
DTSTART:20250309T070000
END:DAYLIGHT
BEGIN:STANDARD
TZOFFSETFROM:-0400
TZOFFSETTO:-0500
TZNAME:EST
DTSTART:20251102T060000
END:STANDARD
END:VTIMEZONE
BEGIN:VEVENT
DTSTART;TZID=America/New_York:20240217T090000
DTEND;TZID=America/New_York:20240217T130000
DTSTAMP:20260421T213433
CREATED:20231219T213928Z
LAST-MODIFIED:20231219T213930Z
UID:8591-1708160400-1708174800@wdlnh.org
SUMMARY:Concealed Carry Conversation
DESCRIPTION:So many members have questions about concealed carry that we thought hold this class again this year! This will be the fifth year in a row and it’s one of our most popular classes! \n\n\n\nHolsters\, how to carry\, when to carry\, SHOULD you carry and more!!! \n\n\n\nWe’ll have examples of the various holsters that are made; talk about the various training classes you can take and present the differing opinions of instructors on Concealed Carry! \n\n\n\nPlease contact events to register at events@wdlnh.org \n\n\n\nThis class will be held at our office in Concord and this year we will also try to hold the conversation via Zoom as well to enable more members to attend!
URL:https://wdlnh.org/events/concealed-carry-conversation/
LOCATION:NH
CATEGORIES:Education
ATTACH;FMTTYPE=image/jpeg:https://wdlnh.org/wp-content/uploads/2020/01/woman-drawing-gun-from-holster.jpg
END:VEVENT
END:VCALENDAR